









BEGIN:VCALENDAR
VERSION:2.0
PRODID:-//Henrico County, Virginia - ECPv6.15.20//NONSGML v1.0//EN
CALSCALE:GREGORIAN
METHOD:PUBLISH
X-ORIGINAL-URL:https://henrico.gov
X-WR-CALDESC:Events for Henrico County, Virginia
REFRESH-INTERVAL;VALUE=DURATION:PT1H
X-Robots-Tag:noindex
X-PUBLISHED-TTL:PT1H
BEGIN:VTIMEZONE
TZID:America/New_York
BEGIN:DAYLIGHT
TZOFFSETFROM:-0500
TZOFFSETTO:-0400
TZNAME:EDT
DTSTART:20230312T070000
END:DAYLIGHT
BEGIN:STANDARD
TZOFFSETFROM:-0400
TZOFFSETTO:-0500
TZNAME:EST
DTSTART:20231105T060000
END:STANDARD
BEGIN:DAYLIGHT
TZOFFSETFROM:-0500
TZOFFSETTO:-0400
TZNAME:EDT
DTSTART:20240310T070000
END:DAYLIGHT
BEGIN:STANDARD
TZOFFSETFROM:-0400
TZOFFSETTO:-0500
TZNAME:EST
DTSTART:20241103T060000
END:STANDARD
BEGIN:DAYLIGHT
TZOFFSETFROM:-0500
TZOFFSETTO:-0400
TZNAME:EDT
DTSTART:20250309T070000
END:DAYLIGHT
BEGIN:STANDARD
TZOFFSETFROM:-0400
TZOFFSETTO:-0500
TZNAME:EST
DTSTART:20251102T060000
END:STANDARD
END:VTIMEZONE
BEGIN:VEVENT
DTSTART;TZID=America/New_York:20240413T100000
DTEND;TZID=America/New_York:20240413T130000
DTSTAMP:20260421T110128
CREATED:20240220T192613Z
LAST-MODIFIED:20240221T132917Z
UID:10059130-1713002400-1713013200@henrico.gov
SUMMARY:Spring 2024: Shred It To Protect It
DESCRIPTION:The “Shred It To Protect It” event is back this spring! \nThe 2024 Spring event will be held at the Western Henrico Government Complex (4301 E. Parham Road) on Saturday\, April 13 from 10 a.m. to 1 p.m. Please enter the government center onto Prince Henry Drive. Follow the signs and do not leave your vehicle. \n \nView PDF of flyer. \nDocument Shredding Information\n\nPersonal documents for shredding are accepted at no cost. Please place these items in paper grocery bags or boxes ONLY.\n\nAll other containers will be handed back to the citizen.\n\n\nEach citizen is limited to two full boxes (10”x13”x18”) OR three full paper grocery bags.\n\nPlease remove – all paperclips\, binder clips\, 3-ring binders\, bound books\, metal spirals in notebooks\, file folders\, plastic sleeves\, etc.\nPersonal documents only!\n\n\n\n Call Henrico Police at (804) 501-4838 for more information on document shredding. \nElectronics Recycling Information \nElectronics that are accepted free of charge: \n\nMonitors\nComputers\nPrinters\nComputer Peripherals\nAudio/Stereo Equipment\nVCRs\nDVD Players\nVideo Cameras\nPhones\nFacsimiles\nCopy Machines\nWireless Devices\nVideo Game Consoles\nKitchen Appliances\n\nCosts for certain electronics: \n\nCRT TVs\, 27 inches or less: $25\nCRT TVs\, 28 inches or more: $35\nLCD TVs\, 46 inches or less: $20\nLCD TVs\, 47 inches or more: $30\nProjection TVs: $30\n\nItems that are NOT accepted: \nCompact fluorescent light bulbs\, refrigerators\, dehumidifiers\, AC units\, and other items such as clothing or batteries that are not considered an electronic. \nNOTE: Do not place electronic items in the bags or boxes with your shredding items. This will jam the machines. Electronics recycling is separate from the document shredding.
URL:https://henrico.gov/calendar/shred-it-to-protect-it-3/
LOCATION:Henrico Western Government Center\, 4301 E. Parham Road\, Henrico\, VA\, 23228\, United States
CATEGORIES:Events
ORGANIZER;CN="Henrico County Police Division":MAILTO:police@henrico.gov
GEO:37.6288605;-77.5152934
X-APPLE-STRUCTURED-LOCATION;VALUE=URI;X-ADDRESS=Henrico Western Government Center 4301 E. Parham Road Henrico VA 23228 United States;X-APPLE-RADIUS=500;X-TITLE=4301 E. Parham Road:geo:-77.5152934,37.6288605
END:VEVENT
END:VCALENDAR