









BEGIN:VCALENDAR
VERSION:2.0
PRODID:-//Henrico County, Virginia - ECPv6.15.20//NONSGML v1.0//EN
CALSCALE:GREGORIAN
METHOD:PUBLISH
X-ORIGINAL-URL:https://henrico.gov
X-WR-CALDESC:Events for Henrico County, Virginia
REFRESH-INTERVAL;VALUE=DURATION:PT1H
X-Robots-Tag:noindex
X-PUBLISHED-TTL:PT1H
BEGIN:VTIMEZONE
TZID:America/New_York
BEGIN:DAYLIGHT
TZOFFSETFROM:-0500
TZOFFSETTO:-0400
TZNAME:EDT
DTSTART:20230312T070000
END:DAYLIGHT
BEGIN:STANDARD
TZOFFSETFROM:-0400
TZOFFSETTO:-0500
TZNAME:EST
DTSTART:20231105T060000
END:STANDARD
BEGIN:DAYLIGHT
TZOFFSETFROM:-0500
TZOFFSETTO:-0400
TZNAME:EDT
DTSTART:20240310T070000
END:DAYLIGHT
BEGIN:STANDARD
TZOFFSETFROM:-0400
TZOFFSETTO:-0500
TZNAME:EST
DTSTART:20241103T060000
END:STANDARD
BEGIN:DAYLIGHT
TZOFFSETFROM:-0500
TZOFFSETTO:-0400
TZNAME:EDT
DTSTART:20250309T070000
END:DAYLIGHT
BEGIN:STANDARD
TZOFFSETFROM:-0400
TZOFFSETTO:-0500
TZNAME:EST
DTSTART:20251102T060000
END:STANDARD
END:VTIMEZONE
BEGIN:VEVENT
DTSTART;TZID=America/New_York:20240416T183000
DTEND;TZID=America/New_York:20240416T200000
DTSTAMP:20260422T045600
CREATED:20240328T175937Z
LAST-MODIFIED:20240328T180216Z
UID:10059212-1713292200-1713297600@henrico.gov
SUMMARY:Varina Community Conversations - Seven Pines Elementary School
DESCRIPTION:Topics: County FY 2024-25 Budget\, CIT\, and Environmental Efforts \n Join Varina Supervisor Tyrone Nelson and County Manager John Vithoulkas as they discuss highlights from the FY25 approved budget. County leaders will also share updates on recreation and parks\, Henrico’s environmental efforts\, and the Crisis Intervention Team (CIT). Send questions in advance to dav127@henrico.gov or submit them during the meeting in the online chat section. \nYou are able to participate in-person or virtually via webex.com or phone by dialing 1-415-655-0002 Access ode: 2303 081 0998 (password prompted 63935828)
URL:https://henrico.gov/calendar/varina-community-conversations-seven-pines-elementary-school/
LOCATION:Seven Pines Elementary School\, 301 Beulah Rd\, Sandston\, VA\, 23150\, United States
CATEGORIES:Meetings
ATTACH;FMTTYPE=image/jpeg:https://henrico.gov/assets/CommunityConversations_Nelson2024_3.jpg
END:VEVENT
END:VCALENDAR