









BEGIN:VCALENDAR
VERSION:2.0
PRODID:-//Henrico County, Virginia - ECPv6.15.20//NONSGML v1.0//EN
CALSCALE:GREGORIAN
METHOD:PUBLISH
X-ORIGINAL-URL:https://henrico.gov
X-WR-CALDESC:Events for Henrico County, Virginia
REFRESH-INTERVAL;VALUE=DURATION:PT1H
X-Robots-Tag:noindex
X-PUBLISHED-TTL:PT1H
BEGIN:VTIMEZONE
TZID:America/New_York
BEGIN:DAYLIGHT
TZOFFSETFROM:-0500
TZOFFSETTO:-0400
TZNAME:EDT
DTSTART:20230312T070000
END:DAYLIGHT
BEGIN:STANDARD
TZOFFSETFROM:-0400
TZOFFSETTO:-0500
TZNAME:EST
DTSTART:20231105T060000
END:STANDARD
BEGIN:DAYLIGHT
TZOFFSETFROM:-0500
TZOFFSETTO:-0400
TZNAME:EDT
DTSTART:20240310T070000
END:DAYLIGHT
BEGIN:STANDARD
TZOFFSETFROM:-0400
TZOFFSETTO:-0500
TZNAME:EST
DTSTART:20241103T060000
END:STANDARD
BEGIN:DAYLIGHT
TZOFFSETFROM:-0500
TZOFFSETTO:-0400
TZNAME:EDT
DTSTART:20250309T070000
END:DAYLIGHT
BEGIN:STANDARD
TZOFFSETFROM:-0400
TZOFFSETTO:-0500
TZNAME:EST
DTSTART:20251102T060000
END:STANDARD
END:VTIMEZONE
BEGIN:VEVENT
DTSTART;TZID=America/New_York:20240917T180000
DTEND;TZID=America/New_York:20240917T190000
DTSTAMP:20260421T073443
CREATED:20240906T200319Z
LAST-MODIFIED:20240906T200319Z
UID:10059313-1726596000-1726599600@henrico.gov
SUMMARY:Community Engagement Meeting Firehouse 6
DESCRIPTION:Henrico welcomes input from neighbors regarding its plans to rebuild Eastover Gardens Firehouse 6 at Gay Avenue and Millers Lane. Join Henrico Fire\, Dept. of Planning\, Dept. of General Services\, and Varina Supervisor Tyrone Nelson for a community conversation on Tuesday\, Sept. 17\, at 6 p.m. in the cafeteria at Montrose Elementary School (2820 Williamsburg Road). Can’t make the meeting in person? Find the WebEx link at henrico.gov/calendar. Questions? Contact us at firedept@henrico.gov. \nParticipate in-person or virtually via Webex.com or join via phone dial 1-415-655-0002 | Access code 2315 665 9761
URL:https://henrico.gov/calendar/community-engagement-meeting-firehouse-6/
LOCATION:Montrose Elementary School\, 2820 Williamsburg Rd\, Henrico\, 23231\, United States
CATEGORIES:Meetings
END:VEVENT
END:VCALENDAR