









BEGIN:VCALENDAR
VERSION:2.0
PRODID:-//Henrico County, Virginia - ECPv6.15.20//NONSGML v1.0//EN
CALSCALE:GREGORIAN
METHOD:PUBLISH
X-ORIGINAL-URL:https://henrico.gov
X-WR-CALDESC:Events for Henrico County, Virginia
REFRESH-INTERVAL;VALUE=DURATION:PT1H
X-Robots-Tag:noindex
X-PUBLISHED-TTL:PT1H
BEGIN:VTIMEZONE
TZID:America/New_York
BEGIN:DAYLIGHT
TZOFFSETFROM:-0500
TZOFFSETTO:-0400
TZNAME:EDT
DTSTART:20230312T070000
END:DAYLIGHT
BEGIN:STANDARD
TZOFFSETFROM:-0400
TZOFFSETTO:-0500
TZNAME:EST
DTSTART:20231105T060000
END:STANDARD
BEGIN:DAYLIGHT
TZOFFSETFROM:-0500
TZOFFSETTO:-0400
TZNAME:EDT
DTSTART:20240310T070000
END:DAYLIGHT
BEGIN:STANDARD
TZOFFSETFROM:-0400
TZOFFSETTO:-0500
TZNAME:EST
DTSTART:20241103T060000
END:STANDARD
BEGIN:DAYLIGHT
TZOFFSETFROM:-0500
TZOFFSETTO:-0400
TZNAME:EDT
DTSTART:20250309T070000
END:DAYLIGHT
BEGIN:STANDARD
TZOFFSETFROM:-0400
TZOFFSETTO:-0500
TZNAME:EST
DTSTART:20251102T060000
END:STANDARD
END:VTIMEZONE
BEGIN:VEVENT
DTSTART;TZID=America/New_York:20241007T173000
DTEND;TZID=America/New_York:20241007T190000
DTSTAMP:20260419T174722
CREATED:20240828T202106Z
LAST-MODIFIED:20240828T225714Z
UID:10059308-1728322200-1728327600@henrico.gov
SUMMARY:Public Meeting: Libbie Avenue Improvements
DESCRIPTION:Please join us for a public meeting to learn about our proposed plans for improvements to Libbie Avenue. \nMore about the project: https://henrico.gov/projects/libbie-avenue-road-improvements/
URL:https://henrico.gov/calendar/public-meeting-libbie-avenue-improvements/
LOCATION:Libbie Mill Library\, 2100 Libbie Lake East St\, Henrico\, VA\, United States
CATEGORIES:County,Events,Meetings
GEO:37.5898446;-77.4954879
X-APPLE-STRUCTURED-LOCATION;VALUE=URI;X-ADDRESS=Libbie Mill Library 2100 Libbie Lake East St Henrico VA United States;X-APPLE-RADIUS=500;X-TITLE=2100 Libbie Lake East St:geo:-77.4954879,37.5898446
END:VEVENT
END:VCALENDAR