









BEGIN:VCALENDAR
VERSION:2.0
PRODID:-//Henrico County, Virginia - ECPv6.15.20//NONSGML v1.0//EN
CALSCALE:GREGORIAN
METHOD:PUBLISH
X-ORIGINAL-URL:https://henrico.gov
X-WR-CALDESC:Events for Henrico County, Virginia
REFRESH-INTERVAL;VALUE=DURATION:PT1H
X-Robots-Tag:noindex
X-PUBLISHED-TTL:PT1H
BEGIN:VTIMEZONE
TZID:America/New_York
BEGIN:DAYLIGHT
TZOFFSETFROM:-0500
TZOFFSETTO:-0400
TZNAME:EDT
DTSTART:20250309T070000
END:DAYLIGHT
BEGIN:STANDARD
TZOFFSETFROM:-0400
TZOFFSETTO:-0500
TZNAME:EST
DTSTART:20251102T060000
END:STANDARD
BEGIN:DAYLIGHT
TZOFFSETFROM:-0500
TZOFFSETTO:-0400
TZNAME:EDT
DTSTART:20260308T070000
END:DAYLIGHT
BEGIN:STANDARD
TZOFFSETFROM:-0400
TZOFFSETTO:-0500
TZNAME:EST
DTSTART:20261101T060000
END:STANDARD
BEGIN:DAYLIGHT
TZOFFSETFROM:-0500
TZOFFSETTO:-0400
TZNAME:EDT
DTSTART:20270314T070000
END:DAYLIGHT
BEGIN:STANDARD
TZOFFSETFROM:-0400
TZOFFSETTO:-0500
TZNAME:EST
DTSTART:20271107T060000
END:STANDARD
END:VTIMEZONE
BEGIN:VEVENT
DTSTART;TZID=America/New_York:20260303T173000
DTEND;TZID=America/New_York:20260303T190000
DTSTAMP:20260420T194921
CREATED:20260219T163605Z
LAST-MODIFIED:20260220T135520Z
UID:10060378-1772559000-1772564400@henrico.gov
SUMMARY:Climate Action & Adaptation Strategy (CAAS) Open House: Fairfield Area Library
DESCRIPTION:Henrico County is developing a Climate Action & Adaptation Strategy (CAAS) to reduce greenhouse gas (GHG) emissions\, build community resilience\, and adapt to the effects of climate change. The County has already taken foundational steps toward sustainability\, improving energy efficiency in buildings\, restoring streams\, conserving land\, expanding access to active mobility options and public transportation\, and deploying solar. The CAAS will serve as a coordinated strategy to identify priority action areas and to track progress on initiatives going forward. The County needs your help to develop the CAAS! \nJoin us at Fairfield Area Library in the main meeting room to learn more about the CAAS and to provide feedback on a variety of topics and initiatives! There will be open house meetings at libraries in each County district; see the upcoming dates below: \nPublic Meetings: \n\nMarch 3rd from 5:30pm-7:00pm at Fairfield Area Library\nMarch 12th from 5:00pm-6:30pm at Twin Hickory Area Library
URL:https://henrico.gov/calendar/climate-action-adaptation-strategy-caas-open-house-fairfield-area-library/
LOCATION:Fairfield Area Library\, 1401 N. Laburnum Avenue\, 23223\, United States
CATEGORIES:Meetings
ORGANIZER;CN="Sustainability Division":MAILTO:sustainability@henrico.gov
GEO:37.5579864;-77.3724683
X-APPLE-STRUCTURED-LOCATION;VALUE=URI;X-ADDRESS=Fairfield Area Library 1401 N. Laburnum Avenue 23223 United States;X-APPLE-RADIUS=500;X-TITLE=1401 N. Laburnum Avenue:geo:-77.3724683,37.5579864
END:VEVENT
END:VCALENDAR