









BEGIN:VCALENDAR
VERSION:2.0
PRODID:-//Henrico County, Virginia - ECPv6.15.20//NONSGML v1.0//EN
CALSCALE:GREGORIAN
METHOD:PUBLISH
X-ORIGINAL-URL:https://henrico.gov
X-WR-CALDESC:Events for Henrico County, Virginia
REFRESH-INTERVAL;VALUE=DURATION:PT1H
X-Robots-Tag:noindex
X-PUBLISHED-TTL:PT1H
BEGIN:VTIMEZONE
TZID:America/New_York
BEGIN:DAYLIGHT
TZOFFSETFROM:-0500
TZOFFSETTO:-0400
TZNAME:EDT
DTSTART:20250309T070000
END:DAYLIGHT
BEGIN:STANDARD
TZOFFSETFROM:-0400
TZOFFSETTO:-0500
TZNAME:EST
DTSTART:20251102T060000
END:STANDARD
BEGIN:DAYLIGHT
TZOFFSETFROM:-0500
TZOFFSETTO:-0400
TZNAME:EDT
DTSTART:20260308T070000
END:DAYLIGHT
BEGIN:STANDARD
TZOFFSETFROM:-0400
TZOFFSETTO:-0500
TZNAME:EST
DTSTART:20261101T060000
END:STANDARD
BEGIN:DAYLIGHT
TZOFFSETFROM:-0500
TZOFFSETTO:-0400
TZNAME:EDT
DTSTART:20270314T070000
END:DAYLIGHT
BEGIN:STANDARD
TZOFFSETFROM:-0400
TZOFFSETTO:-0500
TZNAME:EST
DTSTART:20271107T060000
END:STANDARD
END:VTIMEZONE
BEGIN:VEVENT
DTSTART;TZID=America/New_York:20260321T090000
DTEND;TZID=America/New_York:20260321T153000
DTSTAMP:20260421T143148
CREATED:20260219T170642Z
LAST-MODIFIED:20260317T192553Z
UID:10060384-1774083600-1774107000@henrico.gov
SUMMARY:Tree Planting at Nuckols Farm Elementary School
DESCRIPTION:Join Capital Trees and HEART for a Volunteer Community Tree Planting!\nVolunteer Duties \nCome learn about and implement an innovative planting technique called the Miyawaki Method of Reforestation. The method involves planting young trees (whips) very close together to create a mini-forest that matures years faster than traditional reforestation methods. Volunteers will assist with planting 2500 whip trees – a very young\, slender\, unbranched tree or seedling\, often 1-3 years old and sold with bare roots – at Nuckols Farm Elementary School\, increasing Henrico’s tree canopy and enhancing biodiversity in the park. Volunteers will work alongside Capital Trees and Henrico County leaders – no experience necessary! This is a family-friendly event and a great chance to learn best practices for your own home. \nParticipants will have two opportunities to assist on each day: \n\n9am-11:30am\n1pm-3:30pm\n\nRequirements\nNo gardening experience necessary\, but ideally volunteers should be ready to: \n\nBend\, squat\, kneel\, and /or stand for extended periods\nLift up to 20lbs\nUse hand tools such as: trowel\, shovel\, etc\nBe comfortable working outside\nPlease bring a refillable water bottle\nClosed-toed\, sturdy shoes\nAll other materials\, including gloves\, will be provided.\nPer Henrico County School requirements\, all volunteers must be willing to submit a background check following registration.\n\nVisit CF Engage for more information and to sign up for a slot (or a few)! Hope to see you there!
URL:https://henrico.gov/calendar/tree-planting-at-nuckols-farm-elementary-school/2026-03-21/
LOCATION:Nuckols Farm Elementary School\, 12351 Graham Meadows Dr\, Henrico\, VA\, 23233\, United States
CATEGORIES:Events
ATTACH;FMTTYPE=image/png:https://henrico.gov/assets/capital-trees-logo-1.png
END:VEVENT
BEGIN:VEVENT
DTSTART;TZID=America/New_York:20260321T120000
DTEND;TZID=America/New_York:20260321T150000
DTSTAMP:20260421T143148
CREATED:20260220T142053Z
LAST-MODIFIED:20260320T140132Z
UID:10060385-1774094400-1774105200@henrico.gov
SUMMARY:Community Connections Day
DESCRIPTION:Henrico County is hosting a Community Connections Day on Saturday\, March 21 from noon to 3 p.m. at the Oakmeade Apartments\, 300 Airport Place. \nCome out and join the fun! \nGuests will enjoy: \n\nFree meal for the first 200 attendees – provided by the Daily Menu\nFree barber haircuts – provided by the Virginia Barber School\nEmployment opportunities\nDJ and dancing\nNaloxone training and free naloxone to save the life of someone overdosing\nSafety item giveaway to include gun locks\, lock boxes and safe drug disposal kits\nHenrico County Resources including: Fire\, Mental Health\, Sheriff’s Office\, Empower Task Force\, the Dept. of Social Services and Recreation & Parks\nNeighborhood Resource Center\nPyramid\nRichmond/Henrico Health District\nRestoration Church Food Pantry\nBuilding Constructive Communities\nMcShin Foundation\n\n**In the event of rain on Saturday\, March 21\, the postponed date for the event will be Saturday\, March 28.**
URL:https://henrico.gov/calendar/community-connections-day-5/
LOCATION:Oakmeade Apartments\, 300 Airport Place\, Highland Springs\, VA\, 23075\, United States
CATEGORIES:Events
ATTACH;FMTTYPE=image/png:https://henrico.gov/assets/Spring-Community-Connections-Day-1.png
END:VEVENT
END:VCALENDAR