









BEGIN:VCALENDAR
VERSION:2.0
PRODID:-//Henrico County, Virginia - ECPv6.15.20//NONSGML v1.0//EN
CALSCALE:GREGORIAN
METHOD:PUBLISH
X-ORIGINAL-URL:https://henrico.gov
X-WR-CALDESC:Events for Henrico County, Virginia
REFRESH-INTERVAL;VALUE=DURATION:PT1H
X-Robots-Tag:noindex
X-PUBLISHED-TTL:PT1H
BEGIN:VTIMEZONE
TZID:America/New_York
BEGIN:DAYLIGHT
TZOFFSETFROM:-0500
TZOFFSETTO:-0400
TZNAME:EDT
DTSTART:20250309T070000
END:DAYLIGHT
BEGIN:STANDARD
TZOFFSETFROM:-0400
TZOFFSETTO:-0500
TZNAME:EST
DTSTART:20251102T060000
END:STANDARD
BEGIN:DAYLIGHT
TZOFFSETFROM:-0500
TZOFFSETTO:-0400
TZNAME:EDT
DTSTART:20260308T070000
END:DAYLIGHT
BEGIN:STANDARD
TZOFFSETFROM:-0400
TZOFFSETTO:-0500
TZNAME:EST
DTSTART:20261101T060000
END:STANDARD
BEGIN:DAYLIGHT
TZOFFSETFROM:-0500
TZOFFSETTO:-0400
TZNAME:EDT
DTSTART:20270314T070000
END:DAYLIGHT
BEGIN:STANDARD
TZOFFSETFROM:-0400
TZOFFSETTO:-0500
TZNAME:EST
DTSTART:20271107T060000
END:STANDARD
END:VTIMEZONE
BEGIN:VEVENT
DTSTART;TZID=America/New_York:20260326T090000
DTEND;TZID=America/New_York:20260326T160000
DTSTAMP:20260421T110103
CREATED:20260306T135237Z
LAST-MODIFIED:20260306T165437Z
UID:10060433-1774515600-1774540800@henrico.gov
SUMMARY:Best Products Reimagined and Brook Road Corridor Studio Session
DESCRIPTION:Studio Sessions for the Best Products Reimagined site and the Brook Road Corridor will be held at Burnette Hall Conference Room 173\, Reynolds Community College Parham Road Campus – 1651 East Parham Road\, Henrico VA 23228. To get involved\, please contact the individuals listed on the project webpage.
URL:https://henrico.gov/calendar/studio-sessions/2026-03-26/
LOCATION:Reynolds Community College\, 1651 E Parham Rd\, Henrico\, VA\, United States
ORGANIZER;CN="Planning Department":MAILTO:planning@henrico.gov
END:VEVENT
BEGIN:VEVENT
DTSTART;TZID=America/New_York:20260326T090000
DTEND;TZID=America/New_York:20260326T210000
DTSTAMP:20260421T110103
CREATED:20250512T145316Z
LAST-MODIFIED:20251229T140839Z
UID:10060277-1774515600-1774558800@henrico.gov
SUMMARY:Board of Zoning Appeals Public Hearing
DESCRIPTION:Board Room – Public Hearing to review variances (i.e.\, setback requirements)\, and conditional use permits. Current Agenda \nMeeting Information
URL:https://henrico.gov/calendar/board-of-zoning-appeals-public-hearing-3-2/2026-03-26/
LOCATION:Henrico Western Government Center\, 4301 E. Parham Road\, Henrico\, VA\, 23228\, United States
CATEGORIES:Meetings
ORGANIZER;CN="Planning Department":MAILTO:planning@henrico.gov
GEO:37.6288605;-77.5152934
X-APPLE-STRUCTURED-LOCATION;VALUE=URI;X-ADDRESS=Henrico Western Government Center 4301 E. Parham Road Henrico VA 23228 United States;X-APPLE-RADIUS=500;X-TITLE=4301 E. Parham Road:geo:-77.5152934,37.6288605
END:VEVENT
BEGIN:VEVENT
DTSTART;TZID=America/New_York:20260326T163000
DTEND;TZID=America/New_York:20260326T183000
DTSTAMP:20260421T110103
CREATED:20260225T200717Z
LAST-MODIFIED:20260225T200717Z
UID:10060424-1774542600-1774549800@henrico.gov
SUMMARY:Summer Ready Resource Fair
DESCRIPTION:The Summer Ready Resource Fair\, hosted by Henrico Outreach & Engagement’s Youth Engagement\, provides Henrico youth and their families with access to summer programs\, opportunities\, and resources offered by county departments and community partners. \nFor more information\, contact Kendall Johnson at joh170@henrico.gov.
URL:https://henrico.gov/calendar/summer-ready-resource-fair/
LOCATION:Libbie Mill Library\, 2100 Libbie Lake East St\, Henrico\, VA\, United States
GEO:37.5898446;-77.4954879
X-APPLE-STRUCTURED-LOCATION;VALUE=URI;X-ADDRESS=Libbie Mill Library 2100 Libbie Lake East St Henrico VA United States;X-APPLE-RADIUS=500;X-TITLE=2100 Libbie Lake East St:geo:-77.4954879,37.5898446
END:VEVENT
END:VCALENDAR