









BEGIN:VCALENDAR
VERSION:2.0
PRODID:-//Henrico County, Virginia - ECPv6.15.20//NONSGML v1.0//EN
CALSCALE:GREGORIAN
METHOD:PUBLISH
X-ORIGINAL-URL:https://henrico.gov
X-WR-CALDESC:Events for Henrico County, Virginia
REFRESH-INTERVAL;VALUE=DURATION:PT1H
X-Robots-Tag:noindex
X-PUBLISHED-TTL:PT1H
BEGIN:VTIMEZONE
TZID:America/New_York
BEGIN:DAYLIGHT
TZOFFSETFROM:-0500
TZOFFSETTO:-0400
TZNAME:EDT
DTSTART:20240310T070000
END:DAYLIGHT
BEGIN:STANDARD
TZOFFSETFROM:-0400
TZOFFSETTO:-0500
TZNAME:EST
DTSTART:20241103T060000
END:STANDARD
BEGIN:DAYLIGHT
TZOFFSETFROM:-0500
TZOFFSETTO:-0400
TZNAME:EDT
DTSTART:20250309T070000
END:DAYLIGHT
BEGIN:STANDARD
TZOFFSETFROM:-0400
TZOFFSETTO:-0500
TZNAME:EST
DTSTART:20251102T060000
END:STANDARD
BEGIN:DAYLIGHT
TZOFFSETFROM:-0500
TZOFFSETTO:-0400
TZNAME:EDT
DTSTART:20260308T070000
END:DAYLIGHT
BEGIN:STANDARD
TZOFFSETFROM:-0400
TZOFFSETTO:-0500
TZNAME:EST
DTSTART:20261101T060000
END:STANDARD
BEGIN:DAYLIGHT
TZOFFSETFROM:-0500
TZOFFSETTO:-0400
TZNAME:EDT
DTSTART:20270314T070000
END:DAYLIGHT
BEGIN:STANDARD
TZOFFSETFROM:-0400
TZOFFSETTO:-0500
TZNAME:EST
DTSTART:20271107T060000
END:STANDARD
END:VTIMEZONE
BEGIN:VEVENT
DTSTART;TZID=America/New_York:20250609T190000
DTEND;TZID=America/New_York:20250609T203000
DTSTAMP:20260420T213707
CREATED:20250521T142448Z
LAST-MODIFIED:20250522T201836Z
UID:10059699-1749495600-1749501000@henrico.gov
SUMMARY:Henrico Concert Band: Patriotic Concert
DESCRIPTION:All ages. Come out to Henrico Theatre and get an early start celebrating the birth of our nation with a concert full of patriotic songs performed by Henrico Concert Band under the direction of Randy Abernathy. \nTickets are free and first come\, first served – general admission. \nInformation: 804-652-1460 or 804-501-5859.
URL:https://henrico.gov/calendar/henrico-concert-band-patriotic-concert-2/
LOCATION:Henrico Theatre\, 305 E. Nine Mile Road\, Henrico\, VA\, 23075
CATEGORIES:Concert
ATTACH;FMTTYPE=image/jpeg:https://henrico.gov/assets/Henrico-Concert-Band-2-e1715706882516.jpg
ORGANIZER;CN="Recreation and Parks":MAILTO:recandparks@henrico.gov
GEO:37.5433314;-77.3257642
X-APPLE-STRUCTURED-LOCATION;VALUE=URI;X-ADDRESS=Henrico Theatre 305 E. Nine Mile Road Henrico VA 23075;X-APPLE-RADIUS=500;X-TITLE=305 E. Nine Mile Road:geo:-77.3257642,37.5433314
END:VEVENT
BEGIN:VEVENT
DTSTART;TZID=America/New_York:20250613T190000
DTEND;TZID=America/New_York:20250613T210000
DTSTAMP:20260420T213707
CREATED:20250521T190238Z
LAST-MODIFIED:20250521T191741Z
UID:10059703-1749841200-1749848400@henrico.gov
SUMMARY:Henrico Live: Desirée Roots
DESCRIPTION:Desirée Roots is a celebrated musical and theatre icon in Central Virginia and beyond. With over 35 years of experience\, she has showcased her triple-threat talent in the Gospel\, Jazz\, and Theatre scenes both regionally and internationally. Born and raised in Richmond\, VA\, Desirée began singing in church at the age of four and launched her professional theatrical career at 13\, following the path of her musically inclined family. Throughout the East Coast\, Desirée has performed with orchestras\, jazz ensembles\, and her own groups. As a Grammy-nominated recording artist\, she has also produced shows like “Ella at 100\,” celebrating Ella Fitzgerald’s centenary. In 2014\, she received the Theresa Pollak Award for Vocal Excellence. Desirée currently serves as Program Director for ATLAS Partnership and on the Board of Directors for the Richmond Jazz Society\, however her MOST favorite role is that of mom and wife!\n\n\nHenrico Live Summer Series Tickets are on sale now! \nIndividual Tickets go on sale Wed\, May 28 at 12pm. \nTo purchase tickets\, go to henricolive.com or visit the box office. \n 
URL:https://henrico.gov/calendar/henrico-live-desiree-roots/
LOCATION:Henrico Theatre\, 305 E. Nine Mile Road\, Henrico\, VA\, 23075
CATEGORIES:Concert
ATTACH;FMTTYPE=image/png:https://henrico.gov/assets/7-2.png
ORGANIZER;CN="Recreation and Parks":MAILTO:recandparks@henrico.gov
GEO:37.5433314;-77.3257642
X-APPLE-STRUCTURED-LOCATION;VALUE=URI;X-ADDRESS=Henrico Theatre 305 E. Nine Mile Road Henrico VA 23075;X-APPLE-RADIUS=500;X-TITLE=305 E. Nine Mile Road:geo:-77.3257642,37.5433314
END:VEVENT
BEGIN:VEVENT
DTSTART;TZID=America/New_York:20250626T190000
DTEND;TZID=America/New_York:20250626T203000
DTSTAMP:20260420T213707
CREATED:20250624T200706Z
LAST-MODIFIED:20250625T164419Z
UID:10059700-1750964400-1750969800@henrico.gov
SUMMARY:Cancelled: Henrico Community Band Summer Concerts
DESCRIPTION:*The June 26 concert is cancelled due to the extreme heat. Please join us on July 31 or Aug 28! \n  \nBring your lawn chair or blanket for relaxing evening of music under the stars at Walkerton Tavern! Performed by the Henrico Community Band under the direction of Archer Johnson. \nAdditional performances held July 31\, and August 28. \nInformation: 501-5859 or per22@henrico.gov
URL:https://henrico.gov/calendar/henrico-community-band-summer-concerts-2-2/
LOCATION:Walkerton Tavern\, 2892 Mountain Road\, Glen Allen\, VA\, 23060\, United States
CATEGORIES:Concert
ATTACH;FMTTYPE=image/jpeg:https://henrico.gov/assets/Outdoor-Concert_App-1-scaled-e1715702189958.jpg
ORGANIZER;CN="Recreation and Parks":MAILTO:recandparks@henrico.gov
GEO:37.66606;-77.499708
X-APPLE-STRUCTURED-LOCATION;VALUE=URI;X-ADDRESS=Walkerton Tavern 2892 Mountain Road Glen Allen VA 23060 United States;X-APPLE-RADIUS=500;X-TITLE=2892 Mountain Road:geo:-77.499708,37.66606
END:VEVENT
BEGIN:VEVENT
DTSTART;TZID=America/New_York:20250711T190000
DTEND;TZID=America/New_York:20250711T210000
DTSTAMP:20260420T213707
CREATED:20250521T190504Z
LAST-MODIFIED:20250521T191758Z
UID:10059704-1752260400-1752267600@henrico.gov
SUMMARY:Henrico Live: Eli Lev
DESCRIPTION:Rising singer-songwriter Eli Lev is making the world a smaller place\, one song at a time. Eli pens lyrics and melodies for everyday enlightenment—songs that resonate because they’re heartfelt\, earthy\, and offer the wisdom he’s gained through lifelong travel and self-discovery. The Maryland-based artist has just completed his epic Four Directions project which includes four EPs that were inspired by indigenous traditions he learned while teaching on the Navajo Nation in Northern Arizona. His four part EP releases\, All Roads East (2017) and Way out West (2018)\, Deep South (2019)\, and True North (2021) – imaginatively and intrepidly connect spheres and generations within a body of work that is irresistibly uplifting\, emotionally resonant\, and down-to-earth. A cross between The Avett Brothers and The Lumineers\, Lev has opened for both Shooter Jennings and Lee DeWyze\, performed at The Kennedy Center and 9:30 Club in Washington\, DC\, and toured extensively around the world.\n\n\n\n\nHenrico Live Summer Series Tickets are on sale now! \nIndividual Tickets go on sale Wed\, May 28 at 12pm. \nTo purchase tickets\, go to henricolive.com or visit the box office. \n 
URL:https://henrico.gov/calendar/henrico-live-eli-lev/
LOCATION:Henrico Theatre\, 305 E. Nine Mile Road\, Henrico\, VA\, 23075
CATEGORIES:Concert
ATTACH;FMTTYPE=image/png:https://henrico.gov/assets/8-2.png
ORGANIZER;CN="Recreation and Parks":MAILTO:recandparks@henrico.gov
GEO:37.5433314;-77.3257642
X-APPLE-STRUCTURED-LOCATION;VALUE=URI;X-ADDRESS=Henrico Theatre 305 E. Nine Mile Road Henrico VA 23075;X-APPLE-RADIUS=500;X-TITLE=305 E. Nine Mile Road:geo:-77.3257642,37.5433314
END:VEVENT
BEGIN:VEVENT
DTSTART;TZID=America/New_York:20250731T190000
DTEND;TZID=America/New_York:20250731T203000
DTSTAMP:20260420T213707
CREATED:20250624T200803Z
LAST-MODIFIED:20250731T145856Z
UID:10059701-1753988400-1753993800@henrico.gov
SUMMARY:Canceled: Henrico Community Band Summer Concerts
DESCRIPTION:Bummer! \n\n\n \n\n\nThe Henrico Community Band Concert scheduled for tonight\, July 31\, is canceled because of the high humidity\, heat\, and possible storms! ⛈️\n\n\n \n\n\nThere’s one more concert scheduled for August 28.\n\n\n\n\nBring your lawn chair or blanket for relaxing evening of music under the stars at Walkerton Tavern! Performed by the Henrico Community Band under the direction of Archer Johnson. \nAdditional performance on August 28. \nInformation: 501-5859 or per22@henrico.gov
URL:https://henrico.gov/calendar/henrico-community-band-summer-concerts-2-3/
LOCATION:Walkerton Tavern\, 2892 Mountain Road\, Glen Allen\, VA\, 23060\, United States
CATEGORIES:Concert
ATTACH;FMTTYPE=image/jpeg:https://henrico.gov/assets/Outdoor-Concert_App-1-scaled-e1715702189958.jpg
ORGANIZER;CN="Recreation and Parks":MAILTO:recandparks@henrico.gov
GEO:37.66606;-77.499708
X-APPLE-STRUCTURED-LOCATION;VALUE=URI;X-ADDRESS=Walkerton Tavern 2892 Mountain Road Glen Allen VA 23060 United States;X-APPLE-RADIUS=500;X-TITLE=2892 Mountain Road:geo:-77.499708,37.66606
END:VEVENT
BEGIN:VEVENT
DTSTART;TZID=America/New_York:20250815T190000
DTEND;TZID=America/New_York:20250815T210000
DTSTAMP:20260420T213707
CREATED:20250521T190734Z
LAST-MODIFIED:20250521T191652Z
UID:10059705-1755284400-1755291600@henrico.gov
SUMMARY:Henrico Live: Nu Blu
DESCRIPTION:After releasing four Top Ten Billboard albums\, North Carolina based Nu-Blu has quickly established themselves as one of the top Acoustic acts in the music industry\, delivering a set of songs that range from the melancholy to the exuberant\, and at every step they prove they’ve got a knack for finding their way into the deeper parts of you. Hailing from Siler City\, the textbook definition of a picturesque small southern town\, Nu-Blu’s heart and soul is husband-and-wife duo Daniel and Carolyn Routh. Joined by Austin Hefflefinger and Justin Harrison\, they deliver upbeat\, blazing-fingers pick work just as well as gentle\, heartwarming ballads\, and they do it all with a natural togetherness that can’t be faked.\n\n\n\n\n\nHenrico Live Summer Series Tickets are on sale now! \nIndividual Tickets go on sale Wed\, May 28 at 12pm. \nTo purchase tickets\, go to henricolive.com or visit the box office. \n 
URL:https://henrico.gov/calendar/henrico-live-nu-blu-3/
LOCATION:Henrico Theatre\, 305 E. Nine Mile Road\, Henrico\, VA\, 23075
CATEGORIES:Concert
ATTACH;FMTTYPE=image/png:https://henrico.gov/assets/9-1.png
ORGANIZER;CN="Recreation and Parks":MAILTO:recandparks@henrico.gov
GEO:37.5433314;-77.3257642
X-APPLE-STRUCTURED-LOCATION;VALUE=URI;X-ADDRESS=Henrico Theatre 305 E. Nine Mile Road Henrico VA 23075;X-APPLE-RADIUS=500;X-TITLE=305 E. Nine Mile Road:geo:-77.3257642,37.5433314
END:VEVENT
BEGIN:VEVENT
DTSTART;TZID=America/New_York:20250828T190000
DTEND;TZID=America/New_York:20250828T203000
DTSTAMP:20260420T213707
CREATED:20250624T200856Z
LAST-MODIFIED:20250624T201637Z
UID:10059702-1756407600-1756413000@henrico.gov
SUMMARY:Henrico Community Band Summer Concerts
DESCRIPTION:Bring your lawn chair or blanket for relaxing evening of music under the stars at Walkerton Tavern!\nPerformed by the Henrico Community Band under the direction of Archer Johnson. \nAdditional performance on July 31. \nInformation: 501-5859 or per22@henrico.gov
URL:https://henrico.gov/calendar/henrico-community-band-summer-concerts-2-4/
LOCATION:Walkerton Tavern\, 2892 Mountain Road\, Glen Allen\, VA\, 23060\, United States
CATEGORIES:Concert
ATTACH;FMTTYPE=image/jpeg:https://henrico.gov/assets/Outdoor-Concert_App-1-scaled-e1715702189958.jpg
ORGANIZER;CN="Recreation and Parks":MAILTO:recandparks@henrico.gov
GEO:37.66606;-77.499708
X-APPLE-STRUCTURED-LOCATION;VALUE=URI;X-ADDRESS=Walkerton Tavern 2892 Mountain Road Glen Allen VA 23060 United States;X-APPLE-RADIUS=500;X-TITLE=2892 Mountain Road:geo:-77.499708,37.66606
END:VEVENT
BEGIN:VEVENT
DTSTART;TZID=America/New_York:20250912T190000
DTEND;TZID=America/New_York:20250912T210000
DTSTAMP:20260420T213707
CREATED:20250827T201541Z
LAST-MODIFIED:20250905T190801Z
UID:10060151-1757703600-1757710800@henrico.gov
SUMMARY:Three Lakes Outdoor Concert
DESCRIPTION:We are excited to announce the re-opening of Three Lakes Nature Center!\nTo celebrate\, we’re hosting a multi-day celebration at the park including a ribbon-cutting\, tours\, concert\, and outdoor movie. \nOutdoor Concert: Sep 12 \nOn Fri\, Sep 12\, Three Lakes is hosting an outdoor concert featuring 5 STARR. Bring a chair or blanket to enjoy an evening of music! Concessions will be available for purchase from Con Salsa and Curbside Creations. Be sure to come early to visit the newly renovated nature center! The center will be open from 10am-9pm. \nPlease note: Only ADA parking will be available in the park. Guests can park at Klehr Field and take a shuttle over to the event area. Thank you for helping us create a larger event space! \nInformation: ThreeLakes@henrico.gov \n  \nAdditional Celebration Events: \nRibbon Cutting & Community Celebration\nThur\, Sep 11\, 10am-3pm \nMovie in the Park\nSat\, Sep 13\, 7pm
URL:https://henrico.gov/calendar/three-lakes-outdoor-concert/
LOCATION:Three Lakes Park & Nature Center\, 400 Sausiluta Drive\, Henrico\, VA\, 23227\, United States
CATEGORIES:Concert,Events
ATTACH;FMTTYPE=image/png:https://henrico.gov/assets/TL-Concert.png
ORGANIZER;CN="Recreation and Parks":MAILTO:recandparks@henrico.gov
GEO:37.6185609;-77.4298642
X-APPLE-STRUCTURED-LOCATION;VALUE=URI;X-ADDRESS=Three Lakes Park & Nature Center 400 Sausiluta Drive Henrico VA 23227 United States;X-APPLE-RADIUS=500;X-TITLE=400 Sausiluta Drive:geo:-77.4298642,37.6185609
END:VEVENT
BEGIN:VEVENT
DTSTART;TZID=America/New_York:20251024T190000
DTEND;TZID=America/New_York:20251024T210000
DTSTAMP:20260420T213707
CREATED:20251009T215858Z
LAST-MODIFIED:20251009T215858Z
UID:10060195-1761332400-1761339600@henrico.gov
SUMMARY:Henrico Live: The Taters
DESCRIPTION:Long time Taters fans will tell you that their holiday shows are some of their favorites! For over 25 years the band has pulled out all the stops on Halloween to present an always unique experience. This year’s Halloween show features includes your favorite Halloween songs throughout the years as well as their album Don’t Scream! Songs to Keep You Up in Night.\n\n\n\n\n\nTickets are on sale now for $10 each. Go to henricolive.com or visit the box office.\n\nBox office hours- Monday\, Wednesday\, and Friday: noon-4pm.
URL:https://henrico.gov/calendar/henrico-live-the-taters/
LOCATION:Henrico Theatre\, 305 E. Nine Mile Road\, Henrico\, VA\, 23075
CATEGORIES:Concert,Performance
ATTACH;FMTTYPE=image/png:https://henrico.gov/assets/The-Taters-Web.png
ORGANIZER;CN="Recreation and Parks":MAILTO:recandparks@henrico.gov
GEO:37.5433314;-77.3257642
X-APPLE-STRUCTURED-LOCATION;VALUE=URI;X-ADDRESS=Henrico Theatre 305 E. Nine Mile Road Henrico VA 23075;X-APPLE-RADIUS=500;X-TITLE=305 E. Nine Mile Road:geo:-77.3257642,37.5433314
END:VEVENT
BEGIN:VEVENT
DTSTART;TZID=America/New_York:20251107T190000
DTEND;TZID=America/New_York:20251107T210000
DTSTAMP:20260420T213707
CREATED:20250912T161929Z
LAST-MODIFIED:20251104T195641Z
UID:10060153-1762542000-1762549200@henrico.gov
SUMMARY:Cancelled: The Jazz Ambassadors
DESCRIPTION:*11/4 Update: The Jazz Ambassadors concert has been cancelled due to lack of government appropriations. \n\nThe Jazz Ambassadors present “This We’ll Defend\,” a video-integrated\, patriotic concert experience. Join America’s Big Band as they celebrate military service through music and storytelling. Honor our Greatest Generation\, ‘Welcome Home’ Vietnam Veterans\, and get to know today’s American Soldiers. Be inspired and entertained by the military’s finest musicians as The Jazz Ambassadors share the meaning behind the motto\, “This We’ll Defend.” \n \nA student jazz ensemble from VCUarts Department of Music will open the concert with a short performance. The 17-piece VCU Jazz Orchestra has a long reputation as one of the finest jazz ensembles in the region. Come hear these amazing\, young artists play swinging classics from Duke Ellington\, Benny Goodman\, and masterpieces by today’s most forward-looking composers! \n \nFree admission! Doors open at 6 p.m.
URL:https://henrico.gov/calendar/the-jazz-ambassadors/
LOCATION:Henrico Theatre\, 305 E. Nine Mile Road\, Henrico\, VA\, 23075
CATEGORIES:Concert
ATTACH;FMTTYPE=image/jpeg:https://henrico.gov/assets/JazzAmbassadors-Web2.jpg
ORGANIZER;CN="Recreation and Parks":MAILTO:recandparks@henrico.gov
GEO:37.5433314;-77.3257642
X-APPLE-STRUCTURED-LOCATION;VALUE=URI;X-ADDRESS=Henrico Theatre 305 E. Nine Mile Road Henrico VA 23075;X-APPLE-RADIUS=500;X-TITLE=305 E. Nine Mile Road:geo:-77.3257642,37.5433314
END:VEVENT
BEGIN:VEVENT
DTSTART;TZID=America/New_York:20251215T190000
DTEND;TZID=America/New_York:20251215T203000
DTSTAMP:20260420T213707
CREATED:20251107T191410Z
LAST-MODIFIED:20251107T194940Z
UID:10060242-1765825200-1765830600@henrico.gov
SUMMARY:Henrico Concert Band: Holiday Concert 2025
DESCRIPTION:Come out to Henrico Theatre and celebrate the holidays with a concert full of your favorite holiday songs performed by Henrico Concert Band under the direction of Randy Abernathy. \nInformation: per22@henrico.gov or 501-5859
URL:https://henrico.gov/calendar/henrico-concert-band-holiday-concert-2025/
LOCATION:Henrico Theatre\, 305 E. Nine Mile Road\, Henrico\, VA\, 23075
CATEGORIES:Concert
ATTACH;FMTTYPE=image/png:https://henrico.gov/assets/HCB-Holiday-Concert-Web.png
ORGANIZER;CN="Recreation and Parks":MAILTO:recandparks@henrico.gov
GEO:37.5433314;-77.3257642
X-APPLE-STRUCTURED-LOCATION;VALUE=URI;X-ADDRESS=Henrico Theatre 305 E. Nine Mile Road Henrico VA 23075;X-APPLE-RADIUS=500;X-TITLE=305 E. Nine Mile Road:geo:-77.3257642,37.5433314
END:VEVENT
BEGIN:VEVENT
DTSTART;TZID=America/New_York:20260113T190000
DTEND;TZID=America/New_York:20260113T200000
DTSTAMP:20260420T213707
CREATED:20251107T190332Z
LAST-MODIFIED:20251219T161537Z
UID:10060239-1768330800-1768334400@henrico.gov
SUMMARY:Henrico Pops Chorus: Winter Concert
DESCRIPTION:The Dec 9 Henrico Pops Chorus Concert has been rescheduled for Jan 13\, 2026.  \nThe Henrico Pops Chorus is proud to present “Winter Harmony\,” a concert to close out the holiday season with harmony and peace for the New Year. \nDirected by Jennifer Grundy. Accompanied by Sarah Cothern. \nInformation: per22@henrico.gov or 804-652-1460.
URL:https://henrico.gov/calendar/henrico-pops-chorus-winter-concert/
LOCATION:Henrico Theatre\, 305 E. Nine Mile Road\, Henrico\, VA\, 23075
CATEGORIES:Concert
ATTACH;FMTTYPE=image/jpeg:https://henrico.gov/assets/PopsChorus-Text-App-e1668721110152.jpg
ORGANIZER;CN="Recreation and Parks":MAILTO:recandparks@henrico.gov
GEO:37.5433314;-77.3257642
X-APPLE-STRUCTURED-LOCATION;VALUE=URI;X-ADDRESS=Henrico Theatre 305 E. Nine Mile Road Henrico VA 23075;X-APPLE-RADIUS=500;X-TITLE=305 E. Nine Mile Road:geo:-77.3257642,37.5433314
END:VEVENT
BEGIN:VEVENT
DTSTART;TZID=America/New_York:20260116T190000
DTEND;TZID=America/New_York:20260116T210000
DTSTAMP:20260420T213707
CREATED:20251009T224915Z
LAST-MODIFIED:20251009T225523Z
UID:10060204-1768590000-1768597200@henrico.gov
SUMMARY:Henrico Live: Joe Enroughty and His Royal Virginians
DESCRIPTION:The Royal Virginians\, under the direction of Joe Enroughty\, continue to be the leader in Big Band entertainment for the Mid-Atlantic region. The orchestra performs music made famous by many of the “name bands” of the Big Band Era including: Guy Lombardo\, Tommy Dorsey\, Glenn Miller\, Count Basie\, Harry James\, Russ Morgan\, Jan Garber\, and many more. The orchestra also performs songs associated with The Beatles\, The Carpenters\, Barry Manilow\, Jimmy Buffett\, The Village People\, Patsy Cline\, and Celine Dion\, among others.\n\n\n\n\n\nTickets are on sale now for $10 each. Go to henricolive.com or visit the box office.\n\nBox office hours- Monday\, Wednesday\, and Friday: noon-4pm.
URL:https://henrico.gov/calendar/henrico-live-joe-enroughty-and-his-royal-virginians/
LOCATION:Henrico Theatre\, 305 E. Nine Mile Road\, Henrico\, VA\, 23075
CATEGORIES:Concert,Performance
ATTACH;FMTTYPE=image/png:https://henrico.gov/assets/Joe-Enroughty-Web.png
ORGANIZER;CN="Recreation and Parks":MAILTO:recandparks@henrico.gov
GEO:37.5433314;-77.3257642
X-APPLE-STRUCTURED-LOCATION;VALUE=URI;X-ADDRESS=Henrico Theatre 305 E. Nine Mile Road Henrico VA 23075;X-APPLE-RADIUS=500;X-TITLE=305 E. Nine Mile Road:geo:-77.3257642,37.5433314
END:VEVENT
BEGIN:VEVENT
DTSTART;TZID=America/New_York:20260320T190000
DTEND;TZID=America/New_York:20260320T210000
DTSTAMP:20260420T213707
CREATED:20251009T224442Z
LAST-MODIFIED:20251009T224442Z
UID:10060203-1774033200-1774040400@henrico.gov
SUMMARY:Henrico Live: Susan Greenbaum
DESCRIPTION:Susan Greenbaum has committed the first sin of musicians: She quit her day job. After working as a corporate executive in Fortune 500 companies\, Susan traded her power suits for performing. Susan is a Henrico Theatre mainstay and the recipient of several songwriting awards.\n\n\n\n\n\nTickets are on sale now for $10 each. Go to henricolive.com or visit the box office.\n\nBox office hours- Monday\, Wednesday\, and Friday: noon-4pm.
URL:https://henrico.gov/calendar/henrico-live-susan-greenbaum/
LOCATION:Henrico Theatre\, 305 E. Nine Mile Road\, Henrico\, VA\, 23075
CATEGORIES:Concert,Performance
ATTACH;FMTTYPE=image/png:https://henrico.gov/assets/Susan-Greenbaum-Web.png
ORGANIZER;CN="Recreation and Parks":MAILTO:recandparks@henrico.gov
GEO:37.5433314;-77.3257642
X-APPLE-STRUCTURED-LOCATION;VALUE=URI;X-ADDRESS=Henrico Theatre 305 E. Nine Mile Road Henrico VA 23075;X-APPLE-RADIUS=500;X-TITLE=305 E. Nine Mile Road:geo:-77.3257642,37.5433314
END:VEVENT
BEGIN:VEVENT
DTSTART;TZID=America/New_York:20260512T190000
DTEND;TZID=America/New_York:20260512T200000
DTSTAMP:20260420T213707
CREATED:20260224T214550Z
LAST-MODIFIED:20260224T214550Z
UID:10060415-1778612400-1778616000@henrico.gov
SUMMARY:Henrico Pops Chorus Spring Concert
DESCRIPTION:The Henrico Pops Chorus will present their annual spring concert. Come out and join the chorus for musical fun. \nFree! No reservations required. Information: per22@henrico.gov or 804-652-1460 \n 
URL:https://henrico.gov/calendar/henrico-pops-chorus-spring-concert-2/
LOCATION:Henrico Theatre\, 305 E. Nine Mile Road\, Henrico\, VA\, 23075
CATEGORIES:Concert
ATTACH;FMTTYPE=image/jpeg:https://henrico.gov/assets/Henrico-Pops-Chorus-scaled-e1662735563664.jpg
ORGANIZER;CN="Recreation and Parks":MAILTO:recandparks@henrico.gov
GEO:37.5433314;-77.3257642
X-APPLE-STRUCTURED-LOCATION;VALUE=URI;X-ADDRESS=Henrico Theatre 305 E. Nine Mile Road Henrico VA 23075;X-APPLE-RADIUS=500;X-TITLE=305 E. Nine Mile Road:geo:-77.3257642,37.5433314
END:VEVENT
BEGIN:VEVENT
DTSTART;TZID=America/New_York:20260529T180000
DTEND;TZID=America/New_York:20260529T210000
DTSTAMP:20260420T213707
CREATED:20260206T203103Z
LAST-MODIFIED:20260224T204713Z
UID:10060356-1780077600-1780088400@henrico.gov
SUMMARY:Spring Concert with Prabir Trio
DESCRIPTION:Join family and friends for an outdoor concert featuring the fusion sounds of Prabir Trio\, an Indian-inspired rock band. \nBring a chair or blanket and enjoy dinner before the show; we’ll have concessions available for purchase. \nThe concert is being held on the activity field. (On the right by the pond when you enter the park.) \nInformation: tru08@henrico.gov
URL:https://henrico.gov/calendar/spring-concert-with-prabir-trio/
LOCATION:Deep Run Park\, 9900 Ridgefield Pkwy\, Henrico\, VA\, 23233
CATEGORIES:Concert,Events
ATTACH;FMTTYPE=image/png:https://henrico.gov/assets/Web-APP-Prabir-Trio.png
ORGANIZER;CN="Recreation and Parks":MAILTO:recandparks@henrico.gov
GEO:37.6259319;-77.5892828
X-APPLE-STRUCTURED-LOCATION;VALUE=URI;X-ADDRESS=Deep Run Park 9900 Ridgefield Pkwy Henrico VA 23233;X-APPLE-RADIUS=500;X-TITLE=9900 Ridgefield Pkwy:geo:-77.5892828,37.6259319
END:VEVENT
END:VCALENDAR