









BEGIN:VCALENDAR
VERSION:2.0
PRODID:-//Henrico County, Virginia - ECPv6.15.20//NONSGML v1.0//EN
CALSCALE:GREGORIAN
METHOD:PUBLISH
X-ORIGINAL-URL:https://henrico.gov
X-WR-CALDESC:Events for Henrico County, Virginia
REFRESH-INTERVAL;VALUE=DURATION:PT1H
X-Robots-Tag:noindex
X-PUBLISHED-TTL:PT1H
BEGIN:VTIMEZONE
TZID:America/New_York
BEGIN:DAYLIGHT
TZOFFSETFROM:-0500
TZOFFSETTO:-0400
TZNAME:EDT
DTSTART:20240310T070000
END:DAYLIGHT
BEGIN:STANDARD
TZOFFSETFROM:-0400
TZOFFSETTO:-0500
TZNAME:EST
DTSTART:20241103T060000
END:STANDARD
BEGIN:DAYLIGHT
TZOFFSETFROM:-0500
TZOFFSETTO:-0400
TZNAME:EDT
DTSTART:20250309T070000
END:DAYLIGHT
BEGIN:STANDARD
TZOFFSETFROM:-0400
TZOFFSETTO:-0500
TZNAME:EST
DTSTART:20251102T060000
END:STANDARD
BEGIN:DAYLIGHT
TZOFFSETFROM:-0500
TZOFFSETTO:-0400
TZNAME:EDT
DTSTART:20260308T070000
END:DAYLIGHT
BEGIN:STANDARD
TZOFFSETFROM:-0400
TZOFFSETTO:-0500
TZNAME:EST
DTSTART:20261101T060000
END:STANDARD
END:VTIMEZONE
BEGIN:VEVENT
DTSTART;TZID=America/New_York:20250304T173000
DTEND;TZID=America/New_York:20250304T190000
DTSTAMP:20260420T180712
CREATED:20250206T151519Z
LAST-MODIFIED:20250228T182315Z
UID:10059522-1741109400-1741114800@henrico.gov
SUMMARY:POSTPONED: Public Information Meeting: Woodman Road Improvements
DESCRIPTION:This meeting has been postponed. New date still TBD.\nHenrico County is proposing to improve 1.75 miles of Woodman Road to provide a four-lane divided roadway between Hungary Road and Mountain Road. The project includes turn lane improvements\, a shared use path\, and sidewalk along the corridor. \nA public information meeting will be held on Tuesday\, March 4th from 5:30 pm to 7:00 pm at Brookland Middle School. \nSee the project webpage for more information.
URL:https://henrico.gov/calendar/public-information-meeting-woodman-road-improvements/
LOCATION:Brookland Middle School\, 9200 Lydell Drive\, Henrico\, 23228\, United States
CATEGORIES:County,Events,Meetings
END:VEVENT
BEGIN:VEVENT
DTSTART;TZID=America/New_York:20250310T173000
DTEND;TZID=America/New_York:20250310T190000
DTSTAMP:20260420T180712
CREATED:20250218T183710Z
LAST-MODIFIED:20250218T183710Z
UID:10059568-1741627800-1741633200@henrico.gov
SUMMARY:Public Information Meeting: Mayland Drive and Parham Road Thru-Cut (New Date)
DESCRIPTION:The County of Henrico will be constructing a raised directional concrete island at the intersection of Parham Road and Mayland Drive to eliminate the thru movement at the intersection. The goal is to increase operations and safety at the intersection.  \nThis meeting was rescheduled from its original Feb. 20th date due to inclement weather. \nSee the project webpage for more information.
URL:https://henrico.gov/calendar/public-information-meeting-mayland-drive-and-parham-road-thru-cut-new-date/
LOCATION:Tuckahoe Area Library\, 1901 Starling Drive\, Henrico\, VA\, 23229\, United States
CATEGORIES:County,Events,Meetings
GEO:37.6100268;-77.5667374
X-APPLE-STRUCTURED-LOCATION;VALUE=URI;X-ADDRESS=Tuckahoe Area Library 1901 Starling Drive Henrico VA 23229 United States;X-APPLE-RADIUS=500;X-TITLE=1901 Starling Drive:geo:-77.5667374,37.6100268
END:VEVENT
BEGIN:VEVENT
DTSTART;TZID=America/New_York:20250311T173000
DTEND;TZID=America/New_York:20250311T193000
DTSTAMP:20260420T180712
CREATED:20250305T205025Z
LAST-MODIFIED:20250305T205025Z
UID:10059639-1741714200-1741721400@henrico.gov
SUMMARY:Hidden in Plain Sight
DESCRIPTION:Join the Henrico County Sheriff’s Office for a special evening to help educate parents and guardians on possible signs of drug and alcohol use by teens. The event replicates a teenager’s bedroom to allow parents to “snoop” and try to find indicators of drug use and hiding spots. Discover how alcohol and drugs can be easily hidden in a teenager’s bedroom and learn of ways to engage in proactive and healthy discussions to prevent risky behaviors. \n\n\nAlong with an interactive presentation on how spot signs of teen drug and alcohol use\, the event will include: \n\n\nGuest speaker Karleen Wolanin\, the founder of Virginia Fentanyl and Substance Awareness\nRapid ‘REVIVE!’ training for life-saving opioid overdose medication Naloxone (also known as Narcan)\nA meet-and-greet with service providers\n\n\n\nHenrico parents and guardians are encouraged to attend.
URL:https://henrico.gov/calendar/hidden-in-plain-sight/
LOCATION:Hermitage High School\, 8301 Hungary Spring Road\, Henrico\, VA\, 23228\, United States
CATEGORIES:Events
ATTACH;FMTTYPE=image/jpeg:https://henrico.gov/assets/Hidden-in-Plain-Sight.jpg
ORGANIZER;CN="Henrico County Sheriff's Office":MAILTO:HCSO_Recruitment@henrico.gov
GEO:37.632824;-77.517171
X-APPLE-STRUCTURED-LOCATION;VALUE=URI;X-ADDRESS=Hermitage High School 8301 Hungary Spring Road Henrico VA 23228 United States;X-APPLE-RADIUS=500;X-TITLE=8301 Hungary Spring Road:geo:-77.517171,37.632824
END:VEVENT
BEGIN:VEVENT
DTSTART;TZID=America/New_York:20250312T193000
DTEND;TZID=America/New_York:20250312T203000
DTSTAMP:20260420T180712
CREATED:20250212T150220Z
LAST-MODIFIED:20250212T150220Z
UID:10059564-1741807800-1741811400@henrico.gov
SUMMARY:On the Air Radio Players: Alice in Wonderland
DESCRIPTION:The On the Air Radio Players are excited to present the Columbia Workshop version of Alice in Wonderland\, an old-time radio show! Come and be a part of the studio audience for this hour-long taping featuring live music and sound effects. Directed by Valerie Chinn. Fun for the whole family. \nInformation: per22@henrico.gov
URL:https://henrico.gov/calendar/on-the-air-radio-players-alice-in-wonderland/
LOCATION:Cultural Arts Center at Glen Allen\, 2880 Mountain Road\, Glen Allen\, VA\, 23060\, United States
CATEGORIES:Performance
ATTACH;FMTTYPE=image/jpeg:https://henrico.gov/assets/Radio-Players-web.jpg
ORGANIZER;CN="Recreation and Parks":MAILTO:recandparks@henrico.gov
GEO:37.667356;-77.50077
X-APPLE-STRUCTURED-LOCATION;VALUE=URI;X-ADDRESS=Cultural Arts Center at Glen Allen 2880 Mountain Road Glen Allen VA 23060 United States;X-APPLE-RADIUS=500;X-TITLE=2880 Mountain Road:geo:-77.50077,37.667356
END:VEVENT
BEGIN:VEVENT
DTSTART;TZID=America/New_York:20250313T140000
DTEND;TZID=America/New_York:20250313T190000
DTSTAMP:20260420T180712
CREATED:20250212T205804Z
LAST-MODIFIED:20250213T182204Z
UID:10059567-1741874400-1741892400@henrico.gov
SUMMARY:Henrico County Sheriff's Office Job Fair
DESCRIPTION:Looking for a new career in public safety? The Henrico County Sheriff’s Office is hosting a job fair on March 13\, 2025\, from 2 to 7 p.m. at the Henrico County Public Safety Training Center (7701 E. Parham Road). \n \nThis is an opportunity to learn more about our agency’s role within the county which includes providing security for our jails and courthouse. \nWe are currently hiring for Deputies (21+) and Jailors (18-20). Deputies have a starting salary of $56\,265 and Jailors at $53\,688. \nIf you plan on attending the job fair\, please consider bringing the following items with you: \n\nDriver’s License\nSocial Security Card\nBirth Certificate\nHighest Level Education Transcripts\nAny Applicable Documentation\n\nWe will be offering onsite interviews at this event! If all goes well\, you could be part of our Basic Sheriff’s Office Training Academy starting on May 5\, 2025. \nPlease RSVP for the event here\, although walk-ins are also welcome. \nIf you have further questions or concerns\, please contact HCSO_Recruitment@henrico.gov or by calling (804) 501-5558. \nDOWNLOAD EVENT FLYER
URL:https://henrico.gov/calendar/henrico-county-sheriffs-office-job-fair-2/
LOCATION:Henrico County Training Center\, 7701 E. Parham Road\, Henrico\, VA\, 23294\, United States
CATEGORIES:Careers,County,Events
ORGANIZER;CN="Henrico County Sheriff's Office":MAILTO:HCSO_Recruitment@henrico.gov
GEO:37.6302738;-77.528194
X-APPLE-STRUCTURED-LOCATION;VALUE=URI;X-ADDRESS=Henrico County Training Center 7701 E. Parham Road Henrico VA 23294 United States;X-APPLE-RADIUS=500;X-TITLE=7701 E. Parham Road:geo:-77.528194,37.6302738
END:VEVENT
BEGIN:VEVENT
DTSTART;TZID=America/New_York:20250313T190000
DTEND;TZID=America/New_York:20250313T200000
DTSTAMP:20260420T180712
CREATED:20250313T170808Z
LAST-MODIFIED:20250313T170808Z
UID:10059565-1741892400-1741896000@henrico.gov
SUMMARY:On the Air Radio Players: Alice in Wonderland
DESCRIPTION:The On the Air Radio Players are excited to present the Columbia Workshop version of Alice in Wonderland\, an old-time radio show! Come and be a part of the studio audience for this hour-long taping featuring live music and sound effects. Directed by Valerie Chinn. Fun for the whole family. \n*Correct start time is 7:00pm \nInformation: per22@henrico.gov
URL:https://henrico.gov/calendar/on-the-air-radio-players-alice-in-wonderland-2/
LOCATION:Cultural Arts Center at Glen Allen\, 2880 Mountain Road\, Glen Allen\, VA\, 23060\, United States
CATEGORIES:Performance
ATTACH;FMTTYPE=image/jpeg:https://henrico.gov/assets/Radio-Players-web.jpg
ORGANIZER;CN="Recreation and Parks":MAILTO:recandparks@henrico.gov
GEO:37.667356;-77.50077
X-APPLE-STRUCTURED-LOCATION;VALUE=URI;X-ADDRESS=Cultural Arts Center at Glen Allen 2880 Mountain Road Glen Allen VA 23060 United States;X-APPLE-RADIUS=500;X-TITLE=2880 Mountain Road:geo:-77.50077,37.667356
END:VEVENT
BEGIN:VEVENT
DTSTART;TZID=America/New_York:20250327T190000
DTEND;TZID=America/New_York:20250327T210000
DTSTAMP:20260420T180712
CREATED:20250210T203953Z
LAST-MODIFIED:20250210T203953Z
UID:10059550-1743102000-1743109200@henrico.gov
SUMMARY:HTC presents Pickled as a Picture
DESCRIPTION:Enjoy this staged reading of an original mystery/comedy/drama by award-winning playwright\, James C. Ferguson. When four middle-aged women meet for their weekly pickleball game in Hingham\, Massachusetts\, an accident occurs that unlocks a long-forgotten mystery involving a peer\, reopening numerous old wounds and causing everyone to reexamine their life choices. \nPresented by Henrico Theatre Company and recommended for ages 10+. \nInformation: per22@henrico.gov
URL:https://henrico.gov/calendar/htc-presents-pickled-as-a-picture/
LOCATION:Henrico Theatre\, 305 E. Nine Mile Road\, Henrico\, VA\, 23075
CATEGORIES:Performance
ATTACH;FMTTYPE=image/jpeg:https://henrico.gov/assets/World-Theatre-Day-web.jpg
ORGANIZER;CN="Recreation and Parks":MAILTO:recandparks@henrico.gov
GEO:37.5433314;-77.3257642
X-APPLE-STRUCTURED-LOCATION;VALUE=URI;X-ADDRESS=Henrico Theatre 305 E. Nine Mile Road Henrico VA 23075;X-APPLE-RADIUS=500;X-TITLE=305 E. Nine Mile Road:geo:-77.3257642,37.5433314
END:VEVENT
BEGIN:VEVENT
DTSTART;TZID=America/New_York:20250331T110000
DTEND;TZID=America/New_York:20250331T130000
DTSTAMP:20260420T180712
CREATED:20250210T203000Z
LAST-MODIFIED:20250210T203000Z
UID:10059548-1743418800-1743426000@henrico.gov
SUMMARY:Welcome Spring!
DESCRIPTION:With the temperature rising\, the birds chirping\, and the flowers blooming\, let’s celebrate spring! We will have family fun\, crafts and lawn games. Concessions available for purchase. \nInformation: roc35@henrico.gov
URL:https://henrico.gov/calendar/welcome-spring/
LOCATION:Dorey Park\, 2999 Darbytown Road\, Henrico\, VA\, 23231\, United States
CATEGORIES:Events
ATTACH;FMTTYPE=image/jpeg:https://henrico.gov/assets/Welcome-Spring-web.jpg
ORGANIZER;CN="Recreation and Parks":MAILTO:recandparks@henrico.gov
GEO:37.4665306;-77.3401159
X-APPLE-STRUCTURED-LOCATION;VALUE=URI;X-ADDRESS=Dorey Park 2999 Darbytown Road Henrico VA 23231 United States;X-APPLE-RADIUS=500;X-TITLE=2999 Darbytown Road:geo:-77.3401159,37.4665306
END:VEVENT
BEGIN:VEVENT
DTSTART;TZID=America/New_York:20250331T160000
DTEND;TZID=America/New_York:20250331T180000
DTSTAMP:20260420T180712
CREATED:20250210T203405Z
LAST-MODIFIED:20250321T183415Z
UID:10059549-1743436800-1743444000@henrico.gov
SUMMARY:Carnival at Belmont
DESCRIPTION:Belmont Rec Center is hosting a carnival! \n\nThere will be:     Face painting     Balloons     A rock wall     And a bounce house!\n\n We will have lots of games outside and the game room will be open inside.\n\nInformation: belmont@henrico.gov\n 
URL:https://henrico.gov/calendar/carnival-at-belmont/
LOCATION:Belmont Recreation Center\, 1600 Hilliard Road\, Henrico\, VA\, 23228\, United States
CATEGORIES:Events
ATTACH;FMTTYPE=image/jpeg:https://henrico.gov/assets/Carnival-at-Belmont-web.jpg
ORGANIZER;CN="Recreation and Parks":MAILTO:recandparks@henrico.gov
GEO:37.6179268;-77.4625476
X-APPLE-STRUCTURED-LOCATION;VALUE=URI;X-ADDRESS=Belmont Recreation Center 1600 Hilliard Road Henrico VA 23228 United States;X-APPLE-RADIUS=500;X-TITLE=1600 Hilliard Road:geo:-77.4625476,37.6179268
END:VEVENT
END:VCALENDAR