









BEGIN:VCALENDAR
VERSION:2.0
PRODID:-//Henrico County, Virginia - ECPv6.15.20//NONSGML v1.0//EN
CALSCALE:GREGORIAN
METHOD:PUBLISH
X-ORIGINAL-URL:https://henrico.gov
X-WR-CALDESC:Events for Henrico County, Virginia
REFRESH-INTERVAL;VALUE=DURATION:PT1H
X-Robots-Tag:noindex
X-PUBLISHED-TTL:PT1H
BEGIN:VTIMEZONE
TZID:America/New_York
BEGIN:DAYLIGHT
TZOFFSETFROM:-0500
TZOFFSETTO:-0400
TZNAME:EDT
DTSTART:20230312T070000
END:DAYLIGHT
BEGIN:STANDARD
TZOFFSETFROM:-0400
TZOFFSETTO:-0500
TZNAME:EST
DTSTART:20231105T060000
END:STANDARD
BEGIN:DAYLIGHT
TZOFFSETFROM:-0500
TZOFFSETTO:-0400
TZNAME:EDT
DTSTART:20240310T070000
END:DAYLIGHT
BEGIN:STANDARD
TZOFFSETFROM:-0400
TZOFFSETTO:-0500
TZNAME:EST
DTSTART:20241103T060000
END:STANDARD
BEGIN:DAYLIGHT
TZOFFSETFROM:-0500
TZOFFSETTO:-0400
TZNAME:EDT
DTSTART:20250309T070000
END:DAYLIGHT
BEGIN:STANDARD
TZOFFSETFROM:-0400
TZOFFSETTO:-0500
TZNAME:EST
DTSTART:20251102T060000
END:STANDARD
END:VTIMEZONE
BEGIN:VEVENT
DTSTART;TZID=America/New_York:20240420T120000
DTEND;TZID=America/New_York:20240420T150000
DTSTAMP:20260419T181703
CREATED:20240202T194424Z
LAST-MODIFIED:20240506T184824Z
UID:10059116-1713614400-1713625200@henrico.gov
SUMMARY:Earth Day 2024
DESCRIPTION:Henrico Recreation & Parks\, Keep Henrico Beautiful\, & H.E.A.R.T will host a festival celebrating Earth Day on Saturday April 20 from 12-3PM at Deep Run Park.  There will be live music\, activities for all ages\, and food truck refreshments available for purchase.  Activities include kayaking with RVA Paddle Sports\, creating solitary beehives\, face painting\, and a sensory tent experience.  Learn about sustainability initiatives and resources available in Henrico County such as energy efficiency\, residential solar\, electric vehicles\, recycling\, preserving green space\, air quality\, and more. \nThis event is family-friendly and is free and open to the public. \nRVA Paddle Sports\nHenrico is excited to have RVA Paddle Sports onsite for the event!\nYou can join in the fun by volunteering with the activity or signing their waiver (in advance) to participate in “Paddle in the Park.” \n\nVendor Application\nInterested in being a vendor at Earth Day?\nComplete this online form by April 5. Applications will be reviewed by the event hosts. \n\nEarth Day Hosts\nLearn more about the hosts of Earth Day! \n\nKeep Henrico Beautiful:\n\nKHB Website\nKHB Instagram\nKHB Facebook\n\n\nHEART:\n\nHEART Website\nHEART Instagram\n\n\nRecreation & Parks:\n\nR&P Website\nR&P Instagram\nR&P Facebook
URL:https://henrico.gov/calendar/earth-day-2024/
LOCATION:Deep Run Park\, 9900 Ridgefield Pkwy\, Henrico\, VA\, 23233
CATEGORIES:Events
ATTACH;FMTTYPE=image/jpeg:https://henrico.gov/assets/EarthDayApp-scaled-e1706905512418.jpg
ORGANIZER;CN="Recreation and Parks":MAILTO:recandparks@henrico.gov
GEO:37.6259319;-77.5892828
X-APPLE-STRUCTURED-LOCATION;VALUE=URI;X-ADDRESS=Deep Run Park 9900 Ridgefield Pkwy Henrico VA 23233;X-APPLE-RADIUS=500;X-TITLE=9900 Ridgefield Pkwy:geo:-77.5892828,37.6259319
END:VEVENT
END:VCALENDAR