









BEGIN:VCALENDAR
VERSION:2.0
PRODID:-//Henrico County, Virginia - ECPv6.15.20//NONSGML v1.0//EN
CALSCALE:GREGORIAN
METHOD:PUBLISH
X-ORIGINAL-URL:https://henrico.gov
X-WR-CALDESC:Events for Henrico County, Virginia
REFRESH-INTERVAL;VALUE=DURATION:PT1H
X-Robots-Tag:noindex
X-PUBLISHED-TTL:PT1H
BEGIN:VTIMEZONE
TZID:America/New_York
BEGIN:DAYLIGHT
TZOFFSETFROM:-0500
TZOFFSETTO:-0400
TZNAME:EDT
DTSTART:20250309T070000
END:DAYLIGHT
BEGIN:STANDARD
TZOFFSETFROM:-0400
TZOFFSETTO:-0500
TZNAME:EST
DTSTART:20251102T060000
END:STANDARD
BEGIN:DAYLIGHT
TZOFFSETFROM:-0500
TZOFFSETTO:-0400
TZNAME:EDT
DTSTART:20260308T070000
END:DAYLIGHT
BEGIN:STANDARD
TZOFFSETFROM:-0400
TZOFFSETTO:-0500
TZNAME:EST
DTSTART:20261101T060000
END:STANDARD
BEGIN:DAYLIGHT
TZOFFSETFROM:-0500
TZOFFSETTO:-0400
TZNAME:EDT
DTSTART:20270314T070000
END:DAYLIGHT
BEGIN:STANDARD
TZOFFSETFROM:-0400
TZOFFSETTO:-0500
TZNAME:EST
DTSTART:20271107T060000
END:STANDARD
END:VTIMEZONE
BEGIN:VEVENT
DTSTART;TZID=America/New_York:20260409T100000
DTEND;TZID=America/New_York:20260409T130000
DTSTAMP:20260425T103232
CREATED:20260324T212805Z
LAST-MODIFIED:20260325T182518Z
UID:10060444-1775728800-1775739600@henrico.gov
SUMMARY:HIV Testing and Education event
DESCRIPTION:Receive free rapid HIV testing and health information Thursday\, April 9 from 10 a.m.-1 p.m. at the East Center Henrico Area Mental Health and Developmental Services building\, 4825 S Laburnum Ave.\, in Conference Room 118. \nThe event will begin with a presentation from Virginia Commonwealth University School of Medicine’s Rob Rodney. He is the director of the HIV Education Program at VCU\, and is excited to share recent medical advancements in both the treatment and prevention of HIV. Attendees will also be offered free\, fast and confidential HIV test results from 11 a.m.-1 p.m. \nThis event is presented in partnership with the Minority Health Consortium\, VCU HIV Education Program\, Doing It RVA and Henrico Area Mental Health & Developmental Services.
URL:https://henrico.gov/calendar/hiv-testing-and-education-event-2/
LOCATION:MH/DS East Center\, 4825 S Laburnum Ave\, Henrico\, VA\, 23231\, United States
CATEGORIES:Events
GEO:37.519899;-77.350077
X-APPLE-STRUCTURED-LOCATION;VALUE=URI;X-ADDRESS=MH/DS East Center 4825 S Laburnum Ave Henrico VA 23231 United States;X-APPLE-RADIUS=500;X-TITLE=4825 S Laburnum Ave:geo:-77.350077,37.519899
END:VEVENT
BEGIN:VEVENT
DTSTART;TZID=America/New_York:20260409T180000
DTEND;TZID=America/New_York:20260409T193000
DTSTAMP:20260425T103232
CREATED:20260323T190716Z
LAST-MODIFIED:20260323T190716Z
UID:10060441-1775757600-1775763000@henrico.gov
SUMMARY:'Behind the Screen' April 9 | Henrico Police Discussion on Internet Crimes Against Children
DESCRIPTION:The Henrico County Police Division will host two information sessions on internet crimes against children in April. \nIn 2024\, the National Center for Missing and Exploited Children (NCMEC) received more than 546\,000 reports of online enticement worldwide. \n“Behind the Screen” is a Henrico Police Special Victims Unit (SVU) initiative focused on providing information to parents\, guardians and caregivers to protect children in a digital world. \nThese information sessions are scheduled for: \n\nApril 9\, 2026\, from 6 to 7:30 p.m. at Deep Run Recreation Center (Ridgefield Ballroom)\, 9900 Ridgefield Parkway; and\nApril 14\, 2026\, from 6 to 7:30 p.m. at Eastern Henrico Recreation Center (Strawberry Hill Ballroom)\, 1440 N. Laburnum Avenue\n\nDetectives will discuss some of the nationwide trends\, apps children are using\, prevention methods\, and how to report child exploitation. \nFor further questions\, please reach out via police@henrico.gov. \n[DOWNLOAD THE EVENT FLYER]
URL:https://henrico.gov/calendar/behind-the-screen-april-9-henrico-police-discussion-on-internet-crimes-against-children/
LOCATION:Deep Run Recreation Center\, 9910 Ridgefield Parkway\, Henrico\, VA\, 23233\, United States
CATEGORIES:Events
ORGANIZER;CN="Henrico County Police Division":MAILTO:police@henrico.gov
GEO:37.6260096;-77.5893594
X-APPLE-STRUCTURED-LOCATION;VALUE=URI;X-ADDRESS=Deep Run Recreation Center 9910 Ridgefield Parkway Henrico VA 23233 United States;X-APPLE-RADIUS=500;X-TITLE=9910 Ridgefield Parkway:geo:-77.5893594,37.6260096
END:VEVENT
END:VCALENDAR