









BEGIN:VCALENDAR
VERSION:2.0
PRODID:-//Henrico County, Virginia - ECPv6.15.20//NONSGML v1.0//EN
CALSCALE:GREGORIAN
METHOD:PUBLISH
X-ORIGINAL-URL:https://henrico.gov
X-WR-CALDESC:Events for Henrico County, Virginia
REFRESH-INTERVAL;VALUE=DURATION:PT1H
X-Robots-Tag:noindex
X-PUBLISHED-TTL:PT1H
BEGIN:VTIMEZONE
TZID:America/New_York
BEGIN:DAYLIGHT
TZOFFSETFROM:-0500
TZOFFSETTO:-0400
TZNAME:EDT
DTSTART:20250309T070000
END:DAYLIGHT
BEGIN:STANDARD
TZOFFSETFROM:-0400
TZOFFSETTO:-0500
TZNAME:EST
DTSTART:20251102T060000
END:STANDARD
BEGIN:DAYLIGHT
TZOFFSETFROM:-0500
TZOFFSETTO:-0400
TZNAME:EDT
DTSTART:20260308T070000
END:DAYLIGHT
BEGIN:STANDARD
TZOFFSETFROM:-0400
TZOFFSETTO:-0500
TZNAME:EST
DTSTART:20261101T060000
END:STANDARD
BEGIN:DAYLIGHT
TZOFFSETFROM:-0500
TZOFFSETTO:-0400
TZNAME:EDT
DTSTART:20270314T070000
END:DAYLIGHT
BEGIN:STANDARD
TZOFFSETFROM:-0400
TZOFFSETTO:-0500
TZNAME:EST
DTSTART:20271107T060000
END:STANDARD
END:VTIMEZONE
BEGIN:VEVENT
DTSTART;TZID=America/New_York:20260521T100000
DTEND;TZID=America/New_York:20260521T120000
DTSTAMP:20260424T094803
CREATED:20260206T202000Z
LAST-MODIFIED:20260224T195634Z
UID:10060353-1779357600-1779364800@henrico.gov
SUMMARY:Senior Party & Resource Fair 2026
DESCRIPTION:Senior Adults will receive information from county departments and community organizations\, play games\, and dance\, dance\, dance! Hosted with the SPAN Center and Henrico’s Advocate for Aging. \nInformation: cun04@henrico.gov
URL:https://henrico.gov/calendar/senior-party-resource-fair-2026/
LOCATION:Eastern Henrico Recreation Center\, 1440 N. Laburnum Avenue\, Henrico\, VA\, 23223\, United States
CATEGORIES:Events
ATTACH;FMTTYPE=image/jpeg:https://henrico.gov/assets/Senior-Party-Resource-Fair-e1708550530319.jpg
ORGANIZER;CN="Recreation and Parks":MAILTO:recandparks@henrico.gov
GEO:37.5657122;-77.3782074
X-APPLE-STRUCTURED-LOCATION;VALUE=URI;X-ADDRESS=Eastern Henrico Recreation Center 1440 N. Laburnum Avenue Henrico VA 23223 United States;X-APPLE-RADIUS=500;X-TITLE=1440 N. Laburnum Avenue:geo:-77.3782074,37.5657122
END:VEVENT
BEGIN:VEVENT
DTSTART;TZID=America/New_York:20260522T190000
DTEND;TZID=America/New_York:20260522T210000
DTSTAMP:20260424T094803
CREATED:20260206T212909Z
LAST-MODIFIED:20260212T143753Z
UID:10060362-1779476400-1779483600@henrico.gov
SUMMARY:Movie in the Park: Three Lakes
DESCRIPTION:Enjoy an outdoor movie in the park! Bring your lawn chair or blanket and a flashlight. Picnics are also welcome. Movie will begin at 7 pm in the area by the nature center.  \nBecause of licensing\, we can’t specifically state the movie title. However\, here are a few ways you can find it:\n-Contact us at recandparks@henrico.gov or 804-501-PARK.\n-Sign up for our monthly e-newsletter.
URL:https://henrico.gov/calendar/movie-in-the-park-three-lakes-2/
LOCATION:Three Lakes Park & Nature Center\, 400 Sausiluta Drive\, Henrico\, VA\, 23227\, United States
CATEGORIES:Events
ATTACH;FMTTYPE=image/jpeg:https://henrico.gov/assets/App-Movie-in-the-Park-e1715698906553.jpg
ORGANIZER;CN="Recreation and Parks":MAILTO:recandparks@henrico.gov
GEO:37.6185609;-77.4298642
X-APPLE-STRUCTURED-LOCATION;VALUE=URI;X-ADDRESS=Three Lakes Park & Nature Center 400 Sausiluta Drive Henrico VA 23227 United States;X-APPLE-RADIUS=500;X-TITLE=400 Sausiluta Drive:geo:-77.4298642,37.6185609
END:VEVENT
BEGIN:VEVENT
DTSTART;TZID=America/New_York:20260525T130000
DTEND;TZID=America/New_York:20260525T160000
DTSTAMP:20260424T094803
CREATED:20260206T202222Z
LAST-MODIFIED:20260219T165200Z
UID:10060354-1779714000-1779724800@henrico.gov
SUMMARY:Sandston Parade 2026
DESCRIPTION:Celebrate Memorial Day with a parade through Sandston and live music\, activities\, and exhibitor booths after! \nEvent Schedule\n1 pm – Sandston Parade \nStarts on Williamsburg Road where it intersects with Beulah Road. Proceeds west and disbands at North Confederate Avenue. \n2-4 pm – Block Party\nSandston Recreation Area on JB Finley Street \nParade Application\nThe application will be live starting March 1 through April 26 at 11:45pm. \n\n\nApplication \nAny questions\, please email rec-eventsteam@henrico.gov.
URL:https://henrico.gov/calendar/sandston-parade-2026/
LOCATION:Sandston Memorial Recreation Center\, 11 J B Finley Road\, Sandston\, VA\, United States
CATEGORIES:Events
ATTACH;FMTTYPE=image/jpeg:https://henrico.gov/assets/Logo_SandstonParade22-scaled-e1646153168366.jpg
ORGANIZER;CN="Recreation and Parks":MAILTO:recandparks@henrico.gov
END:VEVENT
BEGIN:VEVENT
DTSTART;TZID=America/New_York:20260529T180000
DTEND;TZID=America/New_York:20260529T210000
DTSTAMP:20260424T094803
CREATED:20260206T203103Z
LAST-MODIFIED:20260224T204713Z
UID:10060356-1780077600-1780088400@henrico.gov
SUMMARY:Spring Concert with Prabir Trio
DESCRIPTION:Join family and friends for an outdoor concert featuring the fusion sounds of Prabir Trio\, an Indian-inspired rock band. \nBring a chair or blanket and enjoy dinner before the show; we’ll have concessions available for purchase. \nThe concert is being held on the activity field. (On the right by the pond when you enter the park.) \nInformation: tru08@henrico.gov
URL:https://henrico.gov/calendar/spring-concert-with-prabir-trio/
LOCATION:Deep Run Park\, 9900 Ridgefield Pkwy\, Henrico\, VA\, 23233
CATEGORIES:Concert,Events
ATTACH;FMTTYPE=image/png:https://henrico.gov/assets/Web-APP-Prabir-Trio.png
ORGANIZER;CN="Recreation and Parks":MAILTO:recandparks@henrico.gov
GEO:37.6259319;-77.5892828
X-APPLE-STRUCTURED-LOCATION;VALUE=URI;X-ADDRESS=Deep Run Park 9900 Ridgefield Pkwy Henrico VA 23233;X-APPLE-RADIUS=500;X-TITLE=9900 Ridgefield Pkwy:geo:-77.5892828,37.6259319
END:VEVENT
BEGIN:VEVENT
DTSTART;TZID=America/New_York:20260531T110000
DTEND;TZID=America/New_York:20260531T130000
DTSTAMP:20260424T094803
CREATED:20260206T203430Z
LAST-MODIFIED:20260422T184456Z
UID:10060357-1780225200-1780232400@henrico.gov
SUMMARY:Bounce House Bonanza 2026
DESCRIPTION:Get ready to bounce into fun and celebrate National Bounce House Day! Experience a day filled with inflatable excitement as we transform our space into a wonderland of bouncy delights. From a towering slide to a whimsical obstacle course\, colorful bounce houses\, and giant inflatable games\, you’re guaranteed a day of laughter and fun. Elite Treats & Eats will be available for purchase! \nInformation: qua024@henrico.gov
URL:https://henrico.gov/calendar/bounce-house-bonanza-2026/
LOCATION:Meadow Farm Museum at Crump Park\, 3400 Mountain Road\, Glen Allen\, VA\, 23060\, United States
CATEGORIES:Events
ATTACH;FMTTYPE=image/jpeg:https://henrico.gov/assets/App-Bounce-House-Bonanza-e1715700166209.jpg
ORGANIZER;CN="Recreation and Parks":MAILTO:recandparks@henrico.gov
GEO:37.6734045;-77.5165528
X-APPLE-STRUCTURED-LOCATION;VALUE=URI;X-ADDRESS=Meadow Farm Museum at Crump Park 3400 Mountain Road Glen Allen VA 23060 United States;X-APPLE-RADIUS=500;X-TITLE=3400 Mountain Road:geo:-77.5165528,37.6734045
END:VEVENT
BEGIN:VEVENT
DTSTART;TZID=America/New_York:20260620T160000
DTEND;TZID=America/New_York:20260620T220000
DTSTAMP:20260424T094803
CREATED:20260224T144749Z
LAST-MODIFIED:20260409T144411Z
UID:10060387-1781971200-1781992800@henrico.gov
SUMMARY:Juneteenth Celebration 2026
DESCRIPTION:This year’s Juneteenth Celebration honors the evolution of Black culture since emancipation through an immersive experience of music\, art\, and community. From the rhythms that shaped generations to the creativity that continues to influence the world\, we invite you to journey with us through the sounds\, stories\, and spirit of freedom. \nEnjoy a vibrant vendor fair featuring 100 local businesses and artisans\, a fun-filled Kids Zone\, live entertainment\, and a wide variety of delicious food. Bring your family and friends as we celebrate culture\, resilience\, and community together. Parking and admission are FREE and open to the public. \nFor more information\, please call (804) 652-1421 or email Juneteenth@henrico.gov. \n\nVendor Applications \nVendor applications for Juneteenth 2026 are now closed\, due to the high volume of responses.  \n\nHistory of Juneteenth\n \nJuneteenth celebrates enforcement of the Emancipation Proclamation reaching the westernmost Confederate state of Texas. The Proclamation went into effect in 1863\, but this news was purposefully withheld from enslaved people until the arrival of Union troops in Galveston Bay\, Texas on June 19\, 1865. Juneteenth marks our country’s second independence day. \nFirst flown in 2000\, the Juneteenth flag was designed by Ben Haith\, founder of the National Juneteenth Celebration. \nLearn more about Juneteenth’s history and traditions.
URL:https://henrico.gov/calendar/juneteenth-celebration-2026/
LOCATION:Dorey Park\, 2999 Darbytown Road\, Henrico\, VA\, 23231\, United States
CATEGORIES:Events
ATTACH;FMTTYPE=image/png:https://henrico.gov/assets/Juneteenth-WebImage.png
ORGANIZER;CN="Recreation and Parks":MAILTO:recandparks@henrico.gov
GEO:37.4665306;-77.3401159
X-APPLE-STRUCTURED-LOCATION;VALUE=URI;X-ADDRESS=Dorey Park 2999 Darbytown Road Henrico VA 23231 United States;X-APPLE-RADIUS=500;X-TITLE=2999 Darbytown Road:geo:-77.3401159,37.4665306
END:VEVENT
BEGIN:VEVENT
DTSTART;TZID=America/New_York:20260703T180000
DTEND;TZID=America/New_York:20260703T220000
DTSTAMP:20260424T094803
CREATED:20260323T124004Z
LAST-MODIFIED:20260403T152851Z
UID:10060366-1783101600-1783116000@henrico.gov
SUMMARY:A Henrico Fourth: Dorey Park
DESCRIPTION:July 4\, 2026\, signifies the 250th anniversary of the signing of the Declaration of Independence (July 4\, 1776)\, which also marks the 250th birthday of the United States of America. So large a birthday\, it could not be contained to one day! We’re having a two-day celebration at two different parks. \nFriday\, July 3: Dorey Park from 6-10pm \nSaturday\, July 4: Crump Park from 5-10pm \nQuestions? Email HenricoFourth@henrico.gov. (Please specify which event you’re asking about in your message.) \n\nFriday\, July 3: Dorey Park\nGates open at 5pm. Free admission & parking.  \nCelebrate independence in style with live music featuring Plunky and Oneness. \nHighlights\n\nFireworks\nLaser Light Show\nHot Air Balloon display presented by Henrico Federal Credit Union\nConcessions available for purchase \n\n\nKnow Before You Go & Tips:\nIt’s OKAY to bring: \n\nOutside food/ drink\nBlankets/ chairs\nWater\nSunscreen\nBug spray\nComfortable shoes\n\nIt’s NOT OKAY to bring: \n\nAlcohol\nTents/ large umbrellas\nLarge coolers (bigger than 15 quarts)\nSparklers\nGrills/ tailgating supplies\nDrones\n\nTips:\n-Please carpool\, walk or bike\, if you’re able.\n-We will be directing traffic in and out of the event. Please allow extra time to enter and leave.\n-There will be accessible parking spaces available to those with a disabled license plate or placard. Guests will need to walk a short distance to the main event area. Accessible restrooms will be available.\n-Lastly\, take a picture before the event. (In case you get separated.)
URL:https://henrico.gov/calendar/a-henrico-fourth-dorey-park/
LOCATION:Dorey Park\, 2999 Darbytown Road\, Henrico\, VA\, 23231\, United States
CATEGORIES:Events
ATTACH;FMTTYPE=image/png:https://henrico.gov/assets/A-Henrico-Fourth-Dorey.png
ORGANIZER;CN="Recreation and Parks":MAILTO:recandparks@henrico.gov
GEO:37.4665306;-77.3401159
X-APPLE-STRUCTURED-LOCATION;VALUE=URI;X-ADDRESS=Dorey Park 2999 Darbytown Road Henrico VA 23231 United States;X-APPLE-RADIUS=500;X-TITLE=2999 Darbytown Road:geo:-77.3401159,37.4665306
END:VEVENT
BEGIN:VEVENT
DTSTART;TZID=America/New_York:20260704T170000
DTEND;TZID=America/New_York:20260704T220000
DTSTAMP:20260424T094803
CREATED:20260323T124037Z
LAST-MODIFIED:20260331T135123Z
UID:10060365-1783184400-1783202400@henrico.gov
SUMMARY:A Henrico Fourth: Crump Park
DESCRIPTION:July 4\, 2026\, signifies the 250th anniversary of the signing of the Declaration of Independence (July 4\, 1776)\, which also marks the 250th birthday of the United States of America. So large a birthday\, it could not be contained to one day! We’re having a two-day celebration at two different parks. \nFriday\, July 3: Dorey Park from 6-10pm \nSaturday\, July 4: Crump Park from 5-10pm \nQuestions? Email HenricoFourth@henrico.gov. (Please specify which event you’re asking about in your message.) \n\nSaturday\, July 4: Crump Park\nGates open at 4pm. Free admission & parking.  \nCelebrate independence in style with live music by the Richmond Symphony Orchestra featuring special guest\, Desiree Roots.  \nHighlights\n\nLaser Light Show\nFlyover\nKids Zone\nHistorical reenactments\nAir Force Display\nHot Air Balloon display presented by Henrico Federal Credit Union\nConcessions available for purchase \n\n*Please note: The finale is a laser-light show set to music. There are NO fireworks.* \n\nKnow Before You Go & Tips:\nIt’s OKAY to bring: \n\nOutside food/ drink\nBlankets/ chairs\nWater\nSunscreen\nBug spray\nComfortable shoes\n\nIt’s NOT OKAY to bring: \n\nAlcohol\nTents/ large umbrellas\nLarge coolers (bigger than 15 quarts)\nSparklers\nGrills/ tailgating supplies\nDrones\n\nTips:\n-Please carpool\, walk or bike\, if you’re able.\n-We will be directing traffic in and out of the event. Please allow extra time to enter and leave.\n-There will be accessible parking spaces available to those with a disabled license plate or placard. Guests will need to walk a short distance to the main event area. Accessible restrooms will be available.\n-Lastly\, take a picture before the event. (In case you get separated.)
URL:https://henrico.gov/calendar/a-henrico-fourth-crump-park/
LOCATION:Meadow Farm Museum at Crump Park\, 3400 Mountain Road\, Glen Allen\, VA\, 23060\, United States
CATEGORIES:Events
ATTACH;FMTTYPE=image/png:https://henrico.gov/assets/A-Henrico-Fourth-Crump.png
ORGANIZER;CN="Recreation and Parks":MAILTO:recandparks@henrico.gov
GEO:37.6734045;-77.5165528
X-APPLE-STRUCTURED-LOCATION;VALUE=URI;X-ADDRESS=Meadow Farm Museum at Crump Park 3400 Mountain Road Glen Allen VA 23060 United States;X-APPLE-RADIUS=500;X-TITLE=3400 Mountain Road:geo:-77.5165528,37.6734045
END:VEVENT
BEGIN:VEVENT
DTSTART;TZID=America/New_York:20260906T160000
DTEND;TZID=America/New_York:20260906T180000
DTSTAMP:20260424T094803
CREATED:20260409T151447Z
LAST-MODIFIED:20260413T195326Z
UID:10060466-1788710400-1788717600@henrico.gov
SUMMARY:Jazz in the Park 2026
DESCRIPTION:Enjoy a relaxing afternoon in the park with a live jazz performance. It’s the perfect way to slow down and enjoy the day! Free admission\, concessions available for purchase.  \nAny questions\, email Rec-EventsTeam@henrico.gov. 
URL:https://henrico.gov/calendar/jazz-in-the-park-2026/
LOCATION:Deep Run Park\, 9900 Ridgefield Pkwy\, Henrico\, VA\, 23233
CATEGORIES:Events
ORGANIZER;CN="Recreation and Parks":MAILTO:recandparks@henrico.gov
GEO:37.6259319;-77.5892828
X-APPLE-STRUCTURED-LOCATION;VALUE=URI;X-ADDRESS=Deep Run Park 9900 Ridgefield Pkwy Henrico VA 23233;X-APPLE-RADIUS=500;X-TITLE=9900 Ridgefield Pkwy:geo:-77.5892828,37.6259319
END:VEVENT
BEGIN:VEVENT
DTSTART;TZID=America/New_York:20260912T100000
DTEND;TZID=America/New_York:20260912T150000
DTSTAMP:20260424T094803
CREATED:20260413T195209Z
LAST-MODIFIED:20260413T195209Z
UID:10060467-1789207200-1789225200@henrico.gov
SUMMARY:HenBIKEo 2026
DESCRIPTION:An exciting event celebrating all things bikes! Experience our awesome cycling community and opportunities at this free event with cyclocross races\, demo bikes\, mountain biking trails\, a bike beauty pageant\, vendors\, live music\, and food. There’ll also be activities just for kids!  \nAny questions\, email Rec-EventsTeam@henrico.gov. 
URL:https://henrico.gov/calendar/henbikeo-2026/
LOCATION:Meadow Farm Museum at Crump Park\, 3400 Mountain Road\, Glen Allen\, VA\, 23060\, United States
CATEGORIES:Events
ATTACH;FMTTYPE=image/jpeg:https://henrico.gov/assets/Web-HenBIKEo.jpg
ORGANIZER;CN="Recreation and Parks":MAILTO:recandparks@henrico.gov
GEO:37.6734045;-77.5165528
X-APPLE-STRUCTURED-LOCATION;VALUE=URI;X-ADDRESS=Meadow Farm Museum at Crump Park 3400 Mountain Road Glen Allen VA 23060 United States;X-APPLE-RADIUS=500;X-TITLE=3400 Mountain Road:geo:-77.5165528,37.6734045
END:VEVENT
BEGIN:VEVENT
DTSTART;TZID=America/New_York:20260919T093000
DTEND;TZID=America/New_York:20260919T150000
DTSTAMP:20260424T094803
CREATED:20260413T195901Z
LAST-MODIFIED:20260413T195901Z
UID:10060468-1789810200-1789830000@henrico.gov
SUMMARY:Glen Allen Day 2026
DESCRIPTION:The Glen Allen Ruritan Club and Henrico Recreation & Parks are hosting the 30th Annual Glen Allen Day. Festivities will take place in the park and will include 100+ vendors and several food stands. Throughout the day\, families can enjoy bands and entertainment on the stage and a huge area with children’s activities. \nVisit the Ruritan Club website at www.glenallenruritan.com/gad  \nEvent Schedule\n9:30am – Parade begins at the intersection of John Cussons Drive and Mountain Road\, traveling to Meadow Farm/Crump Park.\n10:30am-3:00pm – Vendor fair\, food trucks\, stage entertainment\, family activities.
URL:https://henrico.gov/calendar/glen-allen-day-2026/
LOCATION:Meadow Farm Museum at Crump Park\, 3400 Mountain Road\, Glen Allen\, VA\, 23060\, United States
CATEGORIES:Events
ATTACH;FMTTYPE=image/jpeg:https://henrico.gov/assets/Web-Glen-Allen-Day.jpg
ORGANIZER;CN="Recreation and Parks":MAILTO:recandparks@henrico.gov
GEO:37.6734045;-77.5165528
X-APPLE-STRUCTURED-LOCATION;VALUE=URI;X-ADDRESS=Meadow Farm Museum at Crump Park 3400 Mountain Road Glen Allen VA 23060 United States;X-APPLE-RADIUS=500;X-TITLE=3400 Mountain Road:geo:-77.5165528,37.6734045
END:VEVENT
BEGIN:VEVENT
DTSTART;TZID=America/New_York:20260926T160000
DTEND;TZID=America/New_York:20260926T210000
DTSTAMP:20260424T094803
CREATED:20260414T155444Z
LAST-MODIFIED:20260414T170603Z
UID:10060473-1790438400-1790456400@henrico.gov
SUMMARY:Mountainfilm on Tour 2026
DESCRIPTION:Each year in Telluride\, Colorado\, Mountainfilm celebrates cultures unique to mountain communities with an international rendezvous of legendary mountaineers\, environmentalists\, filmmakers\, authors\, scientists\, and artists. \n“Mountainfilm on Tour” is coming to Henrico and guests will enjoy a sampling of incredible outdoor films! Come early to enjoy outdoor activities\, vendors\, and food trucks prior to watching the outdoor films. \n \nInformation: bov001@henrico.gov \n 
URL:https://henrico.gov/calendar/mountainfilm-2026/
LOCATION:Dorey Park\, 2999 Darbytown Road\, Henrico\, VA\, 23231\, United States
CATEGORIES:Events
ATTACH;FMTTYPE=image/jpeg:https://henrico.gov/assets/Mountainfilm-Web-1.jpg
ORGANIZER;CN="Recreation and Parks":MAILTO:recandparks@henrico.gov
GEO:37.4665306;-77.3401159
X-APPLE-STRUCTURED-LOCATION;VALUE=URI;X-ADDRESS=Dorey Park 2999 Darbytown Road Henrico VA 23231 United States;X-APPLE-RADIUS=500;X-TITLE=2999 Darbytown Road:geo:-77.3401159,37.4665306
END:VEVENT
BEGIN:VEVENT
DTSTART;TZID=America/New_York:20261017T090000
DTEND;TZID=America/New_York:20261017T130000
DTSTAMP:20260424T094803
CREATED:20260114T195133Z
LAST-MODIFIED:20260114T195133Z
UID:10060327-1792227600-1792242000@henrico.gov
SUMMARY:Fall 2026 Rabies Clinic
DESCRIPTION:The Henrico County Police Animal Protection Unit will hold its Fall Rabies Clinic on Oct. 17\, 2026 from 9 a.m. to 1 p.m. at the Western Henrico Government Center (4301 E. Parham Road). \nRabies vaccinations are $20 each\, cash only! Cats must be in carriers. Pets from all localities are welcome. \nRegistration and payment are done first inside the Administration building in the Cashier’s Office. You will then proceed to veterinarian on the first level of the parking deck adjacent to the Administration Building. \nHenrico County dog licenses will also be available. The lifetime license fee is $10. The license is for the life of the dog and is valid as long as the dog’s owner resides in the County and the dog’s rabies vaccination is kept current. The license is void if the dog does not receive a rabies vaccination within 30 days of the expiration of the dog’s current rabies vaccination. \nContact the Henrico Police Animal Shelter at 804-727-8801 (open Monday-Saturday\, 10 a.m. until 4:30 p.m.) with any further questions.
URL:https://henrico.gov/calendar/fall-2026-rabies-clinic/
LOCATION:Henrico Western Government Center\, 4301 E. Parham Road\, Henrico\, VA\, 23228\, United States
CATEGORIES:Events
ORGANIZER;CN="Henrico County Police Division":MAILTO:police@henrico.gov
GEO:37.6288605;-77.5152934
X-APPLE-STRUCTURED-LOCATION;VALUE=URI;X-ADDRESS=Henrico Western Government Center 4301 E. Parham Road Henrico VA 23228 United States;X-APPLE-RADIUS=500;X-TITLE=4301 E. Parham Road:geo:-77.5152934,37.6288605
END:VEVENT
BEGIN:VEVENT
DTSTART;TZID=America/New_York:20261208T170000
DTEND;TZID=America/New_York:20261208T200000
DTSTAMP:20260424T094803
CREATED:20260413T205045Z
LAST-MODIFIED:20260413T205418Z
UID:10060472-1796749200-1796760000@henrico.gov
SUMMARY:Henrico Holiday Express 26: Three Chopt & Tuckahoe
DESCRIPTION:Here comes Santa Claus! The 2026 Henrico Holiday Express Tour is coming to town on Dec 8\, 9\, and 10. Experience the magic of the season with a parade of merry and bright vehicles from Rec and Parks\, Police\, Fire\, DPU\, and Libraries\, bringing Santa Claus right down Santa Claus Lane. Meet Jolly ol’ Saint Nick at each night’s ending location. \nFor more information\, contact Rec-EventsTeam@henrico.gov. \n\n2026 Henrico Holiday Express Tours \nTue\, Dec 8\, 5-8pm. Three Chopt & Tuckahoe Districts\nWed\, Dec 9\, 5-8pm. Varina District\nThur\, Dec 10\, 5-8pm. Brookland & Fairfield Districts
URL:https://henrico.gov/calendar/henrico-holiday-express-26-three-chopt-tuckahoe/
LOCATION:Deep Run Recreation Center\, 9910 Ridgefield Parkway\, Henrico\, VA\, 23233\, United States
CATEGORIES:Events
ATTACH;FMTTYPE=image/png:https://henrico.gov/assets/HHET-TCTuckahoe-Web.png
ORGANIZER;CN="Recreation and Parks":MAILTO:recandparks@henrico.gov
GEO:37.6260096;-77.5893594
X-APPLE-STRUCTURED-LOCATION;VALUE=URI;X-ADDRESS=Deep Run Recreation Center 9910 Ridgefield Parkway Henrico VA 23233 United States;X-APPLE-RADIUS=500;X-TITLE=9910 Ridgefield Parkway:geo:-77.5893594,37.6260096
END:VEVENT
BEGIN:VEVENT
DTSTART;TZID=America/New_York:20261209T170000
DTEND;TZID=America/New_York:20261209T200000
DTSTAMP:20260424T094803
CREATED:20260413T204916Z
LAST-MODIFIED:20260413T205313Z
UID:10060471-1796835600-1796846400@henrico.gov
SUMMARY:Henrico Holiday Express 26: Varina
DESCRIPTION:Here comes Santa Claus! The 2026 Henrico Holiday Express Tour is coming to town on Dec 8\, 9\, and 10. Experience the magic of the season with a parade of merry and bright vehicles from Rec and Parks\, Police\, Fire\, DPU\, and Libraries\, bringing Santa Claus right down Santa Claus Lane. Meet Jolly ol’ Saint Nick at each night’s ending location. \nFor more information\, contact Rec-EventsTeam@henrico.gov \n\n2026 Henrico Holiday Express Tours \nTue\, Dec 8\, 5-8pm. Three Chopt & Tuckahoe Districts\nWed\, Dec 9\, 5-8pm. Varina District\nThur\, Dec 10\, 5-8pm. Brookland & Fairfield Districts
URL:https://henrico.gov/calendar/henrico-holiday-express-26-varina/
LOCATION:Dorey Recreation Center\, 2999 Darbytown Road\, Henrico\, VA\, 23231\, United States
CATEGORIES:Events
ATTACH;FMTTYPE=image/png:https://henrico.gov/assets/HHET-Varina-Web.png
ORGANIZER;CN="Recreation and Parks":MAILTO:recandparks@henrico.gov
GEO:37.4665306;-77.3401159
X-APPLE-STRUCTURED-LOCATION;VALUE=URI;X-ADDRESS=Dorey Recreation Center 2999 Darbytown Road Henrico VA 23231 United States;X-APPLE-RADIUS=500;X-TITLE=2999 Darbytown Road:geo:-77.3401159,37.4665306
END:VEVENT
BEGIN:VEVENT
DTSTART;TZID=America/New_York:20261210T170000
DTEND;TZID=America/New_York:20261210T200000
DTSTAMP:20260424T094803
CREATED:20260413T204819Z
LAST-MODIFIED:20260413T205534Z
UID:10060470-1796922000-1796932800@henrico.gov
SUMMARY:Henrico Holiday Express 26: Brookland & Fairfield
DESCRIPTION:Here comes Santa Claus! The 2026 Henrico Holiday Express Tour is coming to town on Dec 8\, 9\, and 10. Experience the magic of the season with a parade of merry and bright vehicles from Rec and Parks\, Police\, Fire\, DPU\, and Libraries\, bringing Santa Claus right down Santa Claus Lane. Meet Jolly ol’ Saint Nick at each night’s ending location. \nFor more information\, contact Rec-EventsTeam@henrico.gov. \n\n2026 Henrico Holiday Express Tours \nTue\, Dec 8\, 5-8pm. Three Chopt & Tuckahoe Districts\nWed\, Dec 9\, 5-8pm. Varina District\nThur\, Dec 10\, 5-8pm. Brookland & Fairfield Districts
URL:https://henrico.gov/calendar/henrico-holiday-express-26-brookland-fairfield/
LOCATION:Eastern Henrico Recreation Center\, 1440 N. Laburnum Avenue\, Henrico\, VA\, 23223\, United States
CATEGORIES:Events
ATTACH;FMTTYPE=image/png:https://henrico.gov/assets/HHET-BrooklandFairfield-Web.png
ORGANIZER;CN="Recreation and Parks":MAILTO:recandparks@henrico.gov
GEO:37.5657122;-77.3782074
X-APPLE-STRUCTURED-LOCATION;VALUE=URI;X-ADDRESS=Eastern Henrico Recreation Center 1440 N. Laburnum Avenue Henrico VA 23223 United States;X-APPLE-RADIUS=500;X-TITLE=1440 N. Laburnum Avenue:geo:-77.3782074,37.5657122
END:VEVENT
BEGIN:VEVENT
DTSTART;TZID=America/New_York:20261212T100000
DTEND;TZID=America/New_York:20261212T130000
DTSTAMP:20260424T094803
CREATED:20260413T202653Z
LAST-MODIFIED:20260413T202653Z
UID:10060469-1797069600-1797080400@henrico.gov
SUMMARY:Santa Paws 2026
DESCRIPTION:Santa Paws returns for another year at Short Pump Park. A photographer will capture free photos of your dog with Santa Claus. Shop a hand-selected array of vendors selling items for you and your pup. Photos will be emailed to participants after the event. Concessions available for purchase.  \nInformation: Rec-EventsTeam@henrico.gov  \n 
URL:https://henrico.gov/calendar/santa-paws-2026/
LOCATION:Short Pump Park\, 3329 Pump Road\, Henrico\, VA\, 23233\, United States
CATEGORIES:Events
ATTACH;FMTTYPE=image/png:https://henrico.gov/assets/SantaPaws-App-e1699994080152.png
ORGANIZER;CN="Recreation and Parks":MAILTO:recandparks@henrico.gov
GEO:37.6348713;-77.6146407
X-APPLE-STRUCTURED-LOCATION;VALUE=URI;X-ADDRESS=Short Pump Park 3329 Pump Road Henrico VA 23233 United States;X-APPLE-RADIUS=500;X-TITLE=3329 Pump Road:geo:-77.6146407,37.6348713
END:VEVENT
END:VCALENDAR