









BEGIN:VCALENDAR
VERSION:2.0
PRODID:-//Henrico County, Virginia - ECPv6.15.20//NONSGML v1.0//EN
CALSCALE:GREGORIAN
METHOD:PUBLISH
X-ORIGINAL-URL:https://henrico.gov
X-WR-CALDESC:Events for Henrico County, Virginia
REFRESH-INTERVAL;VALUE=DURATION:PT1H
X-Robots-Tag:noindex
X-PUBLISHED-TTL:PT1H
BEGIN:VTIMEZONE
TZID:America/New_York
BEGIN:DAYLIGHT
TZOFFSETFROM:-0500
TZOFFSETTO:-0400
TZNAME:EDT
DTSTART:20240310T070000
END:DAYLIGHT
BEGIN:STANDARD
TZOFFSETFROM:-0400
TZOFFSETTO:-0500
TZNAME:EST
DTSTART:20241103T060000
END:STANDARD
BEGIN:DAYLIGHT
TZOFFSETFROM:-0500
TZOFFSETTO:-0400
TZNAME:EDT
DTSTART:20250309T070000
END:DAYLIGHT
BEGIN:STANDARD
TZOFFSETFROM:-0400
TZOFFSETTO:-0500
TZNAME:EST
DTSTART:20251102T060000
END:STANDARD
BEGIN:DAYLIGHT
TZOFFSETFROM:-0500
TZOFFSETTO:-0400
TZNAME:EDT
DTSTART:20260308T070000
END:DAYLIGHT
BEGIN:STANDARD
TZOFFSETFROM:-0400
TZOFFSETTO:-0500
TZNAME:EST
DTSTART:20261101T060000
END:STANDARD
END:VTIMEZONE
BEGIN:VEVENT
DTSTART;TZID=America/New_York:20250205T173000
DTEND;TZID=America/New_York:20250205T190000
DTSTAMP:20260419T182839
CREATED:20250103T194908Z
LAST-MODIFIED:20250210T194621Z
UID:10059430-1738776600-1738782000@henrico.gov
SUMMARY:Parks and Recreation Advisory Commission 2025
DESCRIPTION:The Parks and Recreation Advisory Commission (PRAC) serves as a liaison between the Director of Recreation and Parks\, the Board of Supervisors\, and the citizens of the community. \nThe commission meets on the first Wednesday of each month\, unless noted differently below. \n(Please note: The current calendar is tentative and exact dates will be set at the February meeting.) \n2025 Meeting Notes & Changes \nAugust: No Meeting\nDecember: Joint Meeting and Luncheon with HPAC
URL:https://henrico.gov/calendar/parks-and-recreation-advisory-commission-2025/2025-02-05/
LOCATION:Recreation & Parks Main Office\, 6800 Staples Mill Rd\, Henrico\, VA\, 23228\, United States
CATEGORIES:Meetings
ORGANIZER;CN="Recreation and Parks":MAILTO:recandparks@henrico.gov
GEO:37.6109216;-77.4990553
X-APPLE-STRUCTURED-LOCATION;VALUE=URI;X-ADDRESS=Recreation & Parks Main Office 6800 Staples Mill Rd Henrico VA 23228 United States;X-APPLE-RADIUS=500;X-TITLE=6800 Staples Mill Rd:geo:-77.4990553,37.6109216
END:VEVENT
BEGIN:VEVENT
DTSTART;TZID=America/New_York:20250222T100000
DTEND;TZID=America/New_York:20250222T160000
DTSTAMP:20260419T182839
CREATED:20250131T181041Z
LAST-MODIFIED:20250216T131820Z
UID:10059520-1740218400-1740240000@henrico.gov
SUMMARY:Henrico Humane Society Pet Expo
DESCRIPTION:Mark your calendar for the 24th Annual Pet Expo\, which will be held on Saturday\, February 22\, 2025 from 10 a.m.- 4 p.m. at the Richmond Raceway Complex. \nPet Expo is a unique indoor event where attendees can bring their pets to enjoy a day of fun and excitement with the entire family! Vendors and exhibitors will be on hand offering a variety of goods and services\, including fun activities for your pet. \nHenrico County is a proud sponsor of this annual event\, and you will see representatives from Public Libraries\, Recreation and Parks\, the H.E.A.R.T. initiative\, and the Henrico Police Animal Shelter. You can even adopt a pet from the Henrico Humane Society or Henrico Police Animal Shelter at the Pet Expo! \nTickets: \n\n$8 online for adults ($10 at the door)\n$5 for kids ages 6-12 (online and at the door)\nChildren under 6 and pets are free!\n\nAll proceeds benefit the Henrico Humane Society! For more information\, visit: https://www.henricohumane.org/pet-expo
URL:https://henrico.gov/calendar/henrico-humane-society-pet-expo/
LOCATION:Richmond Raceway Complex\, 600 East Laburnum Avenue\, Richmond\, 23222\, United States
CATEGORIES:Events
ATTACH;FMTTYPE=image/jpeg:https://henrico.gov/assets/Facebook-Event-Image.jpg
ORGANIZER;CN="Henrico Humane Society":MAILTO:hello@henricohumane.org
END:VEVENT
END:VCALENDAR