









BEGIN:VCALENDAR
VERSION:2.0
PRODID:-//Henrico County, Virginia - ECPv6.15.20//NONSGML v1.0//EN
CALSCALE:GREGORIAN
METHOD:PUBLISH
X-ORIGINAL-URL:https://henrico.gov
X-WR-CALDESC:Events for Henrico County, Virginia
REFRESH-INTERVAL;VALUE=DURATION:PT1H
X-Robots-Tag:noindex
X-PUBLISHED-TTL:PT1H
BEGIN:VTIMEZONE
TZID:America/New_York
BEGIN:DAYLIGHT
TZOFFSETFROM:-0500
TZOFFSETTO:-0400
TZNAME:EDT
DTSTART:20250309T070000
END:DAYLIGHT
BEGIN:STANDARD
TZOFFSETFROM:-0400
TZOFFSETTO:-0500
TZNAME:EST
DTSTART:20251102T060000
END:STANDARD
BEGIN:DAYLIGHT
TZOFFSETFROM:-0500
TZOFFSETTO:-0400
TZNAME:EDT
DTSTART:20260308T070000
END:DAYLIGHT
BEGIN:STANDARD
TZOFFSETFROM:-0400
TZOFFSETTO:-0500
TZNAME:EST
DTSTART:20261101T060000
END:STANDARD
BEGIN:DAYLIGHT
TZOFFSETFROM:-0500
TZOFFSETTO:-0400
TZNAME:EDT
DTSTART:20270314T070000
END:DAYLIGHT
BEGIN:STANDARD
TZOFFSETFROM:-0400
TZOFFSETTO:-0500
TZNAME:EST
DTSTART:20271107T060000
END:STANDARD
END:VTIMEZONE
BEGIN:VEVENT
DTSTART;TZID=America/New_York:20260411T100000
DTEND;TZID=America/New_York:20260411T163000
DTSTAMP:20260423T005430
CREATED:20260403T154500Z
LAST-MODIFIED:20260407T195051Z
UID:10060460-1775901600-1775925000@henrico.gov
SUMMARY:Fixin' to go Home pet adoption event
DESCRIPTION:The Henrico County Police Animal Shelter will hold an adoption event from 10 a.m. to 4:30 p.m. Saturday\, April 11 at 10421 Woodman Road. \nWe want to help the animals in our care find the loving homes they have been looking for! We have cats\, dogs and a rabbit who are ready to start their next chapters. The William A. Harrison Jr. Foundation\, Furbish Thrift and Henrico Humane Society have sponsored the spay and neuter surgeries for cats and dogs. Due to the generosity of these community partners\, many pets are available for a $10 adoption fee and are ready to go home with their new families on the day of the event. \nOther local animal rescues will join the event with adoptable pets\, including Petersburg Animal Care & Control\, Hanover County Animal Protection and Shelter\, Louisa County Animal Shelter and Sussex County Animal Control. \nPeople interested in pet adoption will need to bring a photo ID and must be 18 or older. A collar and leash or cat carrier are suggested for your convenience but are not required for bringing your new pet home. Residency of Henrico County is not required to adopt a pet\, only the desire to add a wonderful pet to your family. \nYou can see all the pets available for adoption ahead of time through our PetFinder page. \nFor more event information\, visit our website or call the Henrico Police Animal Shelter at 804-727-8807.
URL:https://henrico.gov/calendar/fixin-to-go-home-pet-adoption-event/
LOCATION:Henrico County Animal Shelter\, 10421 Woodman Road\, Glen Allen\, VA\, 23060\, United States
CATEGORIES:Events
ATTACH;FMTTYPE=image/png:https://henrico.gov/assets/FB-post-FTGH.png
GEO:37.6577754;-77.4914682
X-APPLE-STRUCTURED-LOCATION;VALUE=URI;X-ADDRESS=Henrico County Animal Shelter 10421 Woodman Road Glen Allen VA 23060 United States;X-APPLE-RADIUS=500;X-TITLE=10421 Woodman Road:geo:-77.4914682,37.6577754
END:VEVENT
END:VCALENDAR