









BEGIN:VCALENDAR
VERSION:2.0
PRODID:-//Henrico County, Virginia - ECPv6.15.20//NONSGML v1.0//EN
CALSCALE:GREGORIAN
METHOD:PUBLISH
X-ORIGINAL-URL:https://henrico.gov
X-WR-CALDESC:Events for Henrico County, Virginia
REFRESH-INTERVAL;VALUE=DURATION:PT1H
X-Robots-Tag:noindex
X-PUBLISHED-TTL:PT1H
BEGIN:VTIMEZONE
TZID:America/New_York
BEGIN:DAYLIGHT
TZOFFSETFROM:-0500
TZOFFSETTO:-0400
TZNAME:EDT
DTSTART:20240310T070000
END:DAYLIGHT
BEGIN:STANDARD
TZOFFSETFROM:-0400
TZOFFSETTO:-0500
TZNAME:EST
DTSTART:20241103T060000
END:STANDARD
BEGIN:DAYLIGHT
TZOFFSETFROM:-0500
TZOFFSETTO:-0400
TZNAME:EDT
DTSTART:20250309T070000
END:DAYLIGHT
BEGIN:STANDARD
TZOFFSETFROM:-0400
TZOFFSETTO:-0500
TZNAME:EST
DTSTART:20251102T060000
END:STANDARD
BEGIN:DAYLIGHT
TZOFFSETFROM:-0500
TZOFFSETTO:-0400
TZNAME:EDT
DTSTART:20260308T070000
END:DAYLIGHT
BEGIN:STANDARD
TZOFFSETFROM:-0400
TZOFFSETTO:-0500
TZNAME:EST
DTSTART:20261101T060000
END:STANDARD
END:VTIMEZONE
BEGIN:VEVENT
DTSTART;TZID=America/New_York:20250909T180000
DTEND;TZID=America/New_York:20250909T180000
DTSTAMP:20260421T062942
CREATED:20250115T152500Z
LAST-MODIFIED:20250115T152500Z
UID:10059457-1757440800-1757440800@henrico.gov
SUMMARY:Board of Supervisors Meeting
DESCRIPTION:Board of Supervisors meetings can be viewed live from your computer\, and all agendas and recording of meetings are archived. \nIf you wish to speak at this Board meeting during the public comment period\, please fill out the Meeting Participation Form. \n\nWebex Event Link and Guidance for the Board of Supervisors Meeting
URL:https://henrico.gov/calendar/board-of-supervisors-meeting-january-december-2025/2025-09-09/
LOCATION:Henrico Western Government Center\, 4301 E. Parham Road\, Henrico\, VA\, 23228\, United States
CATEGORIES:Meetings
GEO:37.6288605;-77.5152934
X-APPLE-STRUCTURED-LOCATION;VALUE=URI;X-ADDRESS=Henrico Western Government Center 4301 E. Parham Road Henrico VA 23228 United States;X-APPLE-RADIUS=500;X-TITLE=4301 E. Parham Road:geo:-77.5152934,37.6288605
END:VEVENT
BEGIN:VEVENT
DTSTART;TZID=America/New_York:20250918T183000
DTEND;TZID=America/New_York:20250918T193000
DTSTAMP:20260421T062942
CREATED:20250825T145736Z
LAST-MODIFIED:20250910T140640Z
UID:10060149-1758220200-1758223800@henrico.gov
SUMMARY:Fairfield Forum
DESCRIPTION:Join Fairfield District Supervisor Roscoe D. Cooper III at the Belmont Recreation Center for the next Fairfield Forum on Thursday\, September 18. Learn more about public works\, transportation\, community development and recreation & parks projects underway and planned in the district.   \nThe meeting begins at 6:30 p.m. Belmont Recreation Center is located at 1600 Hilliard Road\, Henrico\, VA 23228.  \nCan’t attend in person? Join via WebEx.\nWebinar number: 2314 933 2833\nPassword: Z3c2UesKJf2   \nOr join by phone: 1-415-655-0002 (access code 2314 933 2833 and password 93228375 when dialing from a phone) 
URL:https://henrico.gov/calendar/fairfield-forum/
LOCATION:Belmont Recreation Center\, 1600 Hilliard Road\, Henrico\, VA\, 23228\, United States
CATEGORIES:Meetings
GEO:37.6179268;-77.4625476
X-APPLE-STRUCTURED-LOCATION;VALUE=URI;X-ADDRESS=Belmont Recreation Center 1600 Hilliard Road Henrico VA 23228 United States;X-APPLE-RADIUS=500;X-TITLE=1600 Hilliard Road:geo:-77.4625476,37.6179268
END:VEVENT
BEGIN:VEVENT
DTSTART;TZID=America/New_York:20250923T180000
DTEND;TZID=America/New_York:20250923T180000
DTSTAMP:20260421T062942
CREATED:20250115T152500Z
LAST-MODIFIED:20250115T152500Z
UID:10059458-1758650400-1758650400@henrico.gov
SUMMARY:Board of Supervisors Meeting
DESCRIPTION:Board of Supervisors meetings can be viewed live from your computer\, and all agendas and recording of meetings are archived. \nIf you wish to speak at this Board meeting during the public comment period\, please fill out the Meeting Participation Form. \n\nWebex Event Link and Guidance for the Board of Supervisors Meeting
URL:https://henrico.gov/calendar/board-of-supervisors-meeting-january-december-2025/2025-09-23/
LOCATION:Henrico Western Government Center\, 4301 E. Parham Road\, Henrico\, VA\, 23228\, United States
CATEGORIES:Meetings
GEO:37.6288605;-77.5152934
X-APPLE-STRUCTURED-LOCATION;VALUE=URI;X-ADDRESS=Henrico Western Government Center 4301 E. Parham Road Henrico VA 23228 United States;X-APPLE-RADIUS=500;X-TITLE=4301 E. Parham Road:geo:-77.5152934,37.6288605
END:VEVENT
END:VCALENDAR