









BEGIN:VCALENDAR
VERSION:2.0
PRODID:-//Henrico County, Virginia - ECPv6.15.20//NONSGML v1.0//EN
CALSCALE:GREGORIAN
METHOD:PUBLISH
X-ORIGINAL-URL:https://henrico.gov
X-WR-CALDESC:Events for Henrico County, Virginia
REFRESH-INTERVAL;VALUE=DURATION:PT1H
X-Robots-Tag:noindex
X-PUBLISHED-TTL:PT1H
BEGIN:VTIMEZONE
TZID:America/New_York
BEGIN:DAYLIGHT
TZOFFSETFROM:-0500
TZOFFSETTO:-0400
TZNAME:EDT
DTSTART:20230312T070000
END:DAYLIGHT
BEGIN:STANDARD
TZOFFSETFROM:-0400
TZOFFSETTO:-0500
TZNAME:EST
DTSTART:20231105T060000
END:STANDARD
BEGIN:DAYLIGHT
TZOFFSETFROM:-0500
TZOFFSETTO:-0400
TZNAME:EDT
DTSTART:20240310T070000
END:DAYLIGHT
BEGIN:STANDARD
TZOFFSETFROM:-0400
TZOFFSETTO:-0500
TZNAME:EST
DTSTART:20241103T060000
END:STANDARD
BEGIN:DAYLIGHT
TZOFFSETFROM:-0500
TZOFFSETTO:-0400
TZNAME:EDT
DTSTART:20250309T070000
END:DAYLIGHT
BEGIN:STANDARD
TZOFFSETFROM:-0400
TZOFFSETTO:-0500
TZNAME:EST
DTSTART:20251102T060000
END:STANDARD
END:VTIMEZONE
BEGIN:VEVENT
DTSTART;TZID=America/New_York:20240427T100000
DTEND;TZID=America/New_York:20240427T140000
DTSTAMP:20260421T202650
CREATED:20240328T155640Z
LAST-MODIFIED:20250408T184905Z
UID:10059209-1714212000-1714226400@henrico.gov
SUMMARY:National Drug Take Back Day
DESCRIPTION:On Saturday\, April 27\, 2024\, from 10 a.m. to 2 p.m.\, in partnership with the Drug Enforcement Administration (DEA)\, we will host Drug Take Back Day events at three different locations within Henrico. Come stop by any of these locations to safely and anonymously dispose of your unneeded\, or old prescription drugs to ensure they do not end up in the wrong hands. \n\nHenrico Public Safety Building (7721 E. Parham Road)\nHenrico Fairfield Area Library (1401 N. Laburnum Avenue)\nWegmans (12200 Wegmans Boulevard)\n\nUnneeded prescription medications that are old\, unwanted\, or no longer needed\, are a public safety issue\, and too often become a gateway to addiction. \nIf you or someone you know suffers from a Substance Abuse Disorder\, please know there is help available. Henrico Mental Health provides treatment and recovery services. Please visit henrico.gov/mhds/substance-use-treatment/ for more information.
URL:https://henrico.gov/calendar/national-drug-take-back-day-2/
CATEGORIES:Events
END:VEVENT
END:VCALENDAR