









BEGIN:VCALENDAR
VERSION:2.0
PRODID:-//Henrico County, Virginia - ECPv6.15.20//NONSGML v1.0//EN
CALSCALE:GREGORIAN
METHOD:PUBLISH
X-ORIGINAL-URL:https://henrico.gov
X-WR-CALDESC:Events for Henrico County, Virginia
REFRESH-INTERVAL;VALUE=DURATION:PT1H
X-Robots-Tag:noindex
X-PUBLISHED-TTL:PT1H
BEGIN:VTIMEZONE
TZID:America/New_York
BEGIN:DAYLIGHT
TZOFFSETFROM:-0500
TZOFFSETTO:-0400
TZNAME:EDT
DTSTART:20240310T070000
END:DAYLIGHT
BEGIN:STANDARD
TZOFFSETFROM:-0400
TZOFFSETTO:-0500
TZNAME:EST
DTSTART:20241103T060000
END:STANDARD
BEGIN:DAYLIGHT
TZOFFSETFROM:-0500
TZOFFSETTO:-0400
TZNAME:EDT
DTSTART:20250309T070000
END:DAYLIGHT
BEGIN:STANDARD
TZOFFSETFROM:-0400
TZOFFSETTO:-0500
TZNAME:EST
DTSTART:20251102T060000
END:STANDARD
BEGIN:DAYLIGHT
TZOFFSETFROM:-0500
TZOFFSETTO:-0400
TZNAME:EDT
DTSTART:20260308T070000
END:DAYLIGHT
BEGIN:STANDARD
TZOFFSETFROM:-0400
TZOFFSETTO:-0500
TZNAME:EST
DTSTART:20261101T060000
END:STANDARD
END:VTIMEZONE
BEGIN:VEVENT
DTSTART;TZID=America/New_York:20251218T183000
DTEND;TZID=America/New_York:20251218T200000
DTSTAMP:20260419T144914
CREATED:20251125T200220Z
LAST-MODIFIED:20251125T202229Z
UID:10060251-1766082600-1766088000@henrico.gov
SUMMARY:Fairfield Forum with Fairfield District Supervisor Roscoe D. Cooper III
DESCRIPTION:Fairfield District Supervisor Roscoe D. Cooper III will host a Fairfield Forum town hall meeting Thursday\, Dec. 18. The meeting will begin at 6:30 p.m. at the Eastern Henrico Recreation Center\, 1440 N. Laburnum Ave. \nResidents are welcome to attend in-person or participate remotely via WebEx. To participate by phone\, dial 415-655-0002 and enter 2315 219 7808 as the meeting’s webinar number or access code. \nQuestions may be asked during the meeting or sent in advance to dod025@henrico.gov. For more information\, visit the Fairfield District supervisor page or call 804-501-4208.
URL:https://henrico.gov/calendar/fairfield-forum-with-fairfield-district-supervisor-roscoe-d-cooper-iii-4/
LOCATION:Eastern Henrico Recreation Center\, 1440 N. Laburnum Avenue\, Henrico\, VA\, 23223\, United States
CATEGORIES:Meetings
GEO:37.5657122;-77.3782074
X-APPLE-STRUCTURED-LOCATION;VALUE=URI;X-ADDRESS=Eastern Henrico Recreation Center 1440 N. Laburnum Avenue Henrico VA 23223 United States;X-APPLE-RADIUS=500;X-TITLE=1440 N. Laburnum Avenue:geo:-77.3782074,37.5657122
END:VEVENT
END:VCALENDAR