









BEGIN:VCALENDAR
VERSION:2.0
PRODID:-//Henrico County, Virginia - ECPv6.15.20//NONSGML v1.0//EN
CALSCALE:GREGORIAN
METHOD:PUBLISH
X-ORIGINAL-URL:https://henrico.gov
X-WR-CALDESC:Events for Henrico County, Virginia
REFRESH-INTERVAL;VALUE=DURATION:PT1H
X-Robots-Tag:noindex
X-PUBLISHED-TTL:PT1H
BEGIN:VTIMEZONE
TZID:America/New_York
BEGIN:DAYLIGHT
TZOFFSETFROM:-0500
TZOFFSETTO:-0400
TZNAME:EDT
DTSTART:20240310T070000
END:DAYLIGHT
BEGIN:STANDARD
TZOFFSETFROM:-0400
TZOFFSETTO:-0500
TZNAME:EST
DTSTART:20241103T060000
END:STANDARD
BEGIN:DAYLIGHT
TZOFFSETFROM:-0500
TZOFFSETTO:-0400
TZNAME:EDT
DTSTART:20250309T070000
END:DAYLIGHT
BEGIN:STANDARD
TZOFFSETFROM:-0400
TZOFFSETTO:-0500
TZNAME:EST
DTSTART:20251102T060000
END:STANDARD
BEGIN:DAYLIGHT
TZOFFSETFROM:-0500
TZOFFSETTO:-0400
TZNAME:EDT
DTSTART:20260308T070000
END:DAYLIGHT
BEGIN:STANDARD
TZOFFSETFROM:-0400
TZOFFSETTO:-0500
TZNAME:EST
DTSTART:20261101T060000
END:STANDARD
END:VTIMEZONE
BEGIN:VEVENT
DTSTART;TZID=America/New_York:20251001T180000
DTEND;TZID=America/New_York:20251001T190000
DTSTAMP:20260419T150943
CREATED:20250210T194655Z
LAST-MODIFIED:20250226T171629Z
UID:10059633-1759341600-1759345200@henrico.gov
SUMMARY:Parks and Recreation Advisory Commission 2025
DESCRIPTION:The Parks and Recreation Advisory Commission (PRAC) serves as a liaison between the Director of Recreation and Parks\, the Board of Supervisors\, and the citizens of the community. \nThe commission meets on the first Wednesday of each month\, unless noted differently below. Effective March 2025\, meetings will begin at 6:00 p.m. \n2025 Meeting Notes & Changes \nApril: Meeting moved to April 9\nJuly: Meeting moved to July 9\nAugust: No Meeting\nDecember: Joint Meeting and Luncheon with HPAC
URL:https://henrico.gov/calendar/parks-and-recreation-advisory-commission-2025-2/2025-10-01/
LOCATION:Recreation & Parks Main Office\, 6800 Staples Mill Rd\, Henrico\, VA\, 23228\, United States
CATEGORIES:Meetings
ORGANIZER;CN="Recreation and Parks":MAILTO:recandparks@henrico.gov
GEO:37.6109216;-77.4990553
X-APPLE-STRUCTURED-LOCATION;VALUE=URI;X-ADDRESS=Recreation & Parks Main Office 6800 Staples Mill Rd Henrico VA 23228 United States;X-APPLE-RADIUS=500;X-TITLE=6800 Staples Mill Rd:geo:-77.4990553,37.6109216
END:VEVENT
BEGIN:VEVENT
DTSTART;TZID=America/New_York:20251003T100000
DTEND;TZID=America/New_York:20251003T120000
DTSTAMP:20260419T150943
CREATED:20250923T170136Z
LAST-MODIFIED:20250923T170136Z
UID:10060182-1759485600-1759492800@henrico.gov
SUMMARY:Snoopy & Friends
DESCRIPTION:Celebrate 75 years of the beloved beagle – Snoopy! Enjoy Peanuts-themed crafts\, games\, and tasty treats inspired by the comic strip icon. Uncover the story behind Snoopy’s adventures\, friendships\, and his lasting place in pop culture. Plus\, keep your eyes open\, Henrico County Animal Shelter will be on site and may just have some adorable four-legged guests ready to join a new family! \n*This event is taking place near Shelters 4 & 5. (By the big playground in the back of the park.) \nInformation: bar174@henrico.gov
URL:https://henrico.gov/calendar/snoopy-friends/
LOCATION:Deep Run Park\, 9900 Ridgefield Pkwy\, Henrico\, VA\, 23233
CATEGORIES:Events
ATTACH;FMTTYPE=image/png:https://henrico.gov/assets/WebImage-20.png
ORGANIZER;CN="Recreation and Parks":MAILTO:recandparks@henrico.gov
GEO:37.6259319;-77.5892828
X-APPLE-STRUCTURED-LOCATION;VALUE=URI;X-ADDRESS=Deep Run Park 9900 Ridgefield Pkwy Henrico VA 23233;X-APPLE-RADIUS=500;X-TITLE=9900 Ridgefield Pkwy:geo:-77.5892828,37.6259319
END:VEVENT
BEGIN:VEVENT
DTSTART;TZID=America/New_York:20251004T093000
DTEND;TZID=America/New_York:20251004T150000
DTSTAMP:20260419T150943
CREATED:20250808T144931Z
LAST-MODIFIED:20250808T201844Z
UID:10060129-1759570200-1759590000@henrico.gov
SUMMARY:Glen Allen Day 2025
DESCRIPTION:The Glen Allen Ruritan Club and Henrico Recreation & Parks are hosting the 29th Annual Glen Allen Day. Festivities will take place in the park and will include 100+ vendors and several food stands. Throughout the day\, families can enjoy bands and entertainment on the stage and a huge area with children’s activities. \nVisit the Ruritan Club website at www.glenallenruritan.com/gad  \nEvent Schedule\n9:30am – Parade begins at the intersection of John Cussons Drive and Mountain Road\, traveling to Meadow Farm/Crump Park.\n10:30am-3:00pm – Vendor fair\, food trucks\, stage entertainment\, family activities.
URL:https://henrico.gov/calendar/glen-allen-day-2025/
LOCATION:Meadow Farm Museum at Crump Park\, 3400 Mountain Road\, Glen Allen\, VA\, 23060\, United States
CATEGORIES:Events
ATTACH;FMTTYPE=image/jpeg:https://henrico.gov/assets/Web-Glen-Allen-Day.jpg
ORGANIZER;CN="Recreation and Parks":MAILTO:recandparks@henrico.gov
GEO:37.6734045;-77.5165528
X-APPLE-STRUCTURED-LOCATION;VALUE=URI;X-ADDRESS=Meadow Farm Museum at Crump Park 3400 Mountain Road Glen Allen VA 23060 United States;X-APPLE-RADIUS=500;X-TITLE=3400 Mountain Road:geo:-77.5165528,37.6734045
END:VEVENT
BEGIN:VEVENT
DTSTART;TZID=America/New_York:20251007T100000
DTEND;TZID=America/New_York:20251007T113000
DTSTAMP:20260419T150943
CREATED:20250808T145126Z
LAST-MODIFIED:20250808T185349Z
UID:10060130-1759831200-1759836600@henrico.gov
SUMMARY:Generations Together
DESCRIPTION:In honor of Active Aging Week\, we are partnering with Henrico Advocate for the Aging and The Span Center to host an intergenerational event connecting seniors with children and adults. Activities will be centered around fitness and movement games. \nInformation: cun04@henrico.gov
URL:https://henrico.gov/calendar/generations-together/
LOCATION:Deep Run Recreation Center\, 9910 Ridgefield Parkway\, Henrico\, VA\, 23233\, United States
CATEGORIES:Events
ATTACH;FMTTYPE=image/png:https://henrico.gov/assets/Generations-Together-web.png
ORGANIZER;CN="Recreation and Parks":MAILTO:recandparks@henrico.gov
GEO:37.6260096;-77.5893594
X-APPLE-STRUCTURED-LOCATION;VALUE=URI;X-ADDRESS=Deep Run Recreation Center 9910 Ridgefield Parkway Henrico VA 23233 United States;X-APPLE-RADIUS=500;X-TITLE=9910 Ridgefield Parkway:geo:-77.5893594,37.6260096
END:VEVENT
BEGIN:VEVENT
DTSTART;TZID=America/New_York:20251009T100000
DTEND;TZID=America/New_York:20251009T120000
DTSTAMP:20260419T150943
CREATED:20250808T145254Z
LAST-MODIFIED:20250925T155239Z
UID:10060131-1760004000-1760011200@henrico.gov
SUMMARY:Health & Fitness Expo 2025
DESCRIPTION:Ages 50+. Experience a wellness educational opportunity to improve your overall emotional\, physical\, and mental health. Engage with community vendors and receive information that benefits a happy lifestyle. Enjoy fitness demos like senior wellness\, yoga\, line dancing\, Zumba\, and pickleball. \n  \nWe will have fitness demos running during the event. Here’s the schedule: \n10:00-10:15am – Mindful Yoga\n10:20-10:35am – Senior Wellness\n10:40-10:55am – Chair Yoga\n11:00-11:15am – Zumba\n11:20-11:35am – Line Dancing\n11:40am-12pm – Pickleball \nInformation: cun04@henrico.gov
URL:https://henrico.gov/calendar/health-fitness-expo-2025/
LOCATION:Eastern Henrico Recreation Center\, 1440 N. Laburnum Avenue\, Henrico\, VA\, 23223\, United States
CATEGORIES:Events
ATTACH;FMTTYPE=image/png:https://henrico.gov/assets/WebImage-24.png
ORGANIZER;CN="Recreation and Parks":MAILTO:recandparks@henrico.gov
GEO:37.5657122;-77.3782074
X-APPLE-STRUCTURED-LOCATION;VALUE=URI;X-ADDRESS=Eastern Henrico Recreation Center 1440 N. Laburnum Avenue Henrico VA 23223 United States;X-APPLE-RADIUS=500;X-TITLE=1440 N. Laburnum Avenue:geo:-77.3782074,37.5657122
END:VEVENT
BEGIN:VEVENT
DTSTART;TZID=America/New_York:20251010T190000
DTEND;TZID=America/New_York:20251010T210000
DTSTAMP:20260419T150943
CREATED:20250808T145439Z
LAST-MODIFIED:20250808T145439Z
UID:10060132-1760122800-1760130000@henrico.gov
SUMMARY:Movie in the Park: EHRC
DESCRIPTION:Bring a blanket or chair along with friends and family as you join us for a movie in the park! Picnics are welcome\, and the movie begins at 7 pm. \nContact us to learn the movie title – recandparks@henrico.gov or 804-501-PARK. \nMovie titles are also shared in our monthly e-newsletter\, sign up today!
URL:https://henrico.gov/calendar/movie-in-the-park-ehrc-2/
LOCATION:Eastern Henrico Recreation Center\, 1440 N. Laburnum Avenue\, Henrico\, VA\, 23223\, United States
CATEGORIES:Events
ATTACH;FMTTYPE=image/jpeg:https://henrico.gov/assets/App-Movie-in-the-Park-e1715698906553.jpg
ORGANIZER;CN="Recreation and Parks":MAILTO:recandparks@henrico.gov
GEO:37.5657122;-77.3782074
X-APPLE-STRUCTURED-LOCATION;VALUE=URI;X-ADDRESS=Eastern Henrico Recreation Center 1440 N. Laburnum Avenue Henrico VA 23223 United States;X-APPLE-RADIUS=500;X-TITLE=1440 N. Laburnum Avenue:geo:-77.3782074,37.5657122
END:VEVENT
BEGIN:VEVENT
DTSTART;TZID=America/New_York:20251012T150000
DTEND;TZID=America/New_York:20251012T170000
DTSTAMP:20260419T150943
CREATED:20250808T145538Z
LAST-MODIFIED:20251010T150047Z
UID:10060133-1760281200-1760288400@henrico.gov
SUMMARY:Cancelled: Awesome Autumn Afternoon
DESCRIPTION:*The Awesome Autumn Afternoon event is cancelled due to the inclement weather forecast. \n\nIt’s an exciting fall afternoon at Dorey Park featuring hayrides\, a pumpkin patch\, a petting zoo\, pony rides\, and an autumn craft! \nThis event is happening at the Horse Ring. \nInformation: cun04@henrico.gov
URL:https://henrico.gov/calendar/awesome-autumn-afternoon-2025/
LOCATION:Dorey Park\, 2999 Darbytown Road\, Henrico\, VA\, 23231\, United States
CATEGORIES:Events
ATTACH;FMTTYPE=image/png:https://henrico.gov/assets/AwesomeAutumn-Cancelled.png
ORGANIZER;CN="Recreation and Parks":MAILTO:recandparks@henrico.gov
GEO:37.4665306;-77.3401159
X-APPLE-STRUCTURED-LOCATION;VALUE=URI;X-ADDRESS=Dorey Park 2999 Darbytown Road Henrico VA 23231 United States;X-APPLE-RADIUS=500;X-TITLE=2999 Darbytown Road:geo:-77.3401159,37.4665306
END:VEVENT
BEGIN:VEVENT
DTSTART;TZID=America/New_York:20251014T100000
DTEND;TZID=America/New_York:20251014T110000
DTSTAMP:20260419T150943
CREATED:20250210T193833Z
LAST-MODIFIED:20250210T195242Z
UID:10059546-1760436000-1760439600@henrico.gov
SUMMARY:Henrico Historic Preservation Advisory Committee 2025
DESCRIPTION:The Henrico Historic Preservation Advisory Committee (HPAC) advises the Henrico County Board of Supervisors regarding the identification\, interpretation\, rehabilitation\, protection and preservation of historical and cultural resources located within the County. HPAC meets on the second Tuesday of each month\, unless noted below. \n2025 Meeting Notes \nFebruary: Meeting postponed until Feb 18.\nAugust: No Meeting\nDecember: Joint Meeting and Luncheon with PRAC
URL:https://henrico.gov/calendar/henrico-historic-preservation-advisory-committee-2025/2025-10-14/
LOCATION:Recreation & Parks Main Office\, 6800 Staples Mill Rd\, Henrico\, VA\, 23228\, United States
ORGANIZER;CN="Recreation and Parks":MAILTO:recandparks@henrico.gov
GEO:37.6109216;-77.4990553
X-APPLE-STRUCTURED-LOCATION;VALUE=URI;X-ADDRESS=Recreation & Parks Main Office 6800 Staples Mill Rd Henrico VA 23228 United States;X-APPLE-RADIUS=500;X-TITLE=6800 Staples Mill Rd:geo:-77.4990553,37.6109216
END:VEVENT
BEGIN:VEVENT
DTSTART;TZID=America/New_York:20251018T090000
DTEND;TZID=America/New_York:20251018T130000
DTSTAMP:20260419T150943
CREATED:20250310T140116Z
LAST-MODIFIED:20250310T140238Z
UID:10059625-1760778000-1760792400@henrico.gov
SUMMARY:Plant Native! Festival
DESCRIPTION:A festival to celebrate the benefits of native plants! \nSaturday October 18\, 2025\nVendor Fair:  9am-1pm *Outdoor Festival * Rain or Shine* \n  \nFor more information visit: Plant Native! Festival \n 
URL:https://henrico.gov/calendar/plant-native-festival-2025/
LOCATION:Dorey Park\, 2999 Darbytown Road\, Henrico\, VA\, 23231\, United States
CATEGORIES:Events
ATTACH;FMTTYPE=image/jpeg:https://henrico.gov/assets/PlantNative2023_Small.jpg
ORGANIZER;CN="Keep Henrico Beautiful":MAILTO:khb@henrico.gov
GEO:37.4665306;-77.3401159
X-APPLE-STRUCTURED-LOCATION;VALUE=URI;X-ADDRESS=Dorey Park 2999 Darbytown Road Henrico VA 23231 United States;X-APPLE-RADIUS=500;X-TITLE=2999 Darbytown Road:geo:-77.3401159,37.4665306
END:VEVENT
BEGIN:VEVENT
DTSTART;TZID=America/New_York:20251018T190000
DTEND;TZID=America/New_York:20251018T213000
DTSTAMP:20260419T150943
CREATED:20250808T145948Z
LAST-MODIFIED:20251009T203848Z
UID:10060134-1760814000-1760823000@henrico.gov
SUMMARY:Real to Reel: Sleepy Hollow
DESCRIPTION:Did you know “The Legend of Sleepy Hollow” has connections to the Revolutionary War? Historian Mark Wilcox will compare the book\, the 1999 movie version\, starring Johnny Depp and Christina Ricci\, with the reality of the 1770s. Then grab some popcorn and enjoy the movie. Recommended for ages 18+. \nFree admission! Information: den63@henrico.gov
URL:https://henrico.gov/calendar/real-to-reel-sleepy-hollow/
LOCATION:Henrico Theatre\, 305 E. Nine Mile Road\, Henrico\, VA\, 23075
ATTACH;FMTTYPE=image/png:https://henrico.gov/assets/Web-Real-to-Reel.png
ORGANIZER;CN="Recreation and Parks":MAILTO:recandparks@henrico.gov
GEO:37.5433314;-77.3257642
X-APPLE-STRUCTURED-LOCATION;VALUE=URI;X-ADDRESS=Henrico Theatre 305 E. Nine Mile Road Henrico VA 23075;X-APPLE-RADIUS=500;X-TITLE=305 E. Nine Mile Road:geo:-77.3257642,37.5433314
END:VEVENT
BEGIN:VEVENT
DTSTART;TZID=America/New_York:20251019T150000
DTEND;TZID=America/New_York:20251019T190000
DTSTAMP:20260419T150943
CREATED:20250808T150216Z
LAST-MODIFIED:20251015T210115Z
UID:10060135-1760886000-1760900400@henrico.gov
SUMMARY:Soulful Sunday 2025
DESCRIPTION:NEW! Soulful Sunday Series \nWe’re ending the series on a high note with our award-winning Soulful Sunday Celebration— an unforgettable day you won’t want to miss! Enjoy a vibrant mix of gospel music\, family-friendly entertainment\, and local community and business vendors. Celebrate the rich traditions of African and African American culture\, dance and music performances\, arts & crafts\, food trucks\, and more. Admission is FREE! \n \nStage Schedule: \n\n3:00 p.m. – DJ Rayvon\n4:00 p.m. – RELEASE Dance (The Life Church)\n4:15 p.m. – Erin Lunsford\n5:00 p.m. – Line Dancing led by Recreation Instructor Alma\n6:15 p.m. – Black Awakening Choir from VCU\n\n\n \nFood for Purchase:  \n\nJus Cukn’\nRollin Eatz\nCroaker Spot\n\n\n \nVendors: \nView the list of vendors attending Soulful Sunday. \n\n \nEntertainment: \nErin Lunsford is an award-winning singer/songwriter from Fincastle\, VA\, now based in Richmond\, VA. Her compositions include self-styled guitar\, banjo\, and keyboard melodies. She is best known as the frontwoman\, lead vocalist\, and lyricist of the touring indie-pop/soul band Erin & The Wildfire. She’s an accomplished writer – just last year\, she was a semi-finalist in the Songwriters Guild of America Country Song Contest for her song “Rhinestones.” And she’s a titan of voice – her vocals have been described as soulful\, expressive\, and downright heavenly. Her effortless versatility has been compared to Chris Stapleton\, YEBBA\, and Lalah Hathaway. \nRELEASE Dance is a ministry that worships God through creative\, interpretive\, and prophetic movement. RELEASE stands for Realizing Every Life Elevates and Accents Someone Else’s. It is through this understanding that the team aligns individual skills with the power of the Holy Spirit to express God’s word in an effort to impact spaces and souls. As referenced in Acts 17:28\, it is in God that “we live\, and move and have our being”\, so RELEASE is purposed to dance not as a performance\, but as a testament that through movement there is freedom\, through movement there is joy\, through movement there is healing\, and through movement\, atmospheres can shift and lives can be changed. \n  \nFor more information\, email rec-eventsteam@henrico.gov
URL:https://henrico.gov/calendar/soulful-sunday-2025/
LOCATION:Eastern Henrico Recreation Center\, 1440 N. Laburnum Avenue\, Henrico\, VA\, 23223\, United States
CATEGORIES:Events
ATTACH;FMTTYPE=image/jpeg:https://henrico.gov/assets/Soulful-Sunday-Logo-scaled-e1661805370275.jpg
ORGANIZER;CN="Recreation and Parks":MAILTO:recandparks@henrico.gov
GEO:37.5657122;-77.3782074
X-APPLE-STRUCTURED-LOCATION;VALUE=URI;X-ADDRESS=Eastern Henrico Recreation Center 1440 N. Laburnum Avenue Henrico VA 23223 United States;X-APPLE-RADIUS=500;X-TITLE=1440 N. Laburnum Avenue:geo:-77.3782074,37.5657122
END:VEVENT
BEGIN:VEVENT
DTSTART;TZID=America/New_York:20251022T173000
DTEND;TZID=America/New_York:20251022T190000
DTSTAMP:20260419T150943
CREATED:20250923T161035Z
LAST-MODIFIED:20250923T161035Z
UID:10060181-1761154200-1761159600@henrico.gov
SUMMARY:Patterson Ave Park: Community Meeting
DESCRIPTION:Patterson Ave Park Community Meeting \nOn August 4\, Henrico County announced plans to create a neighborhood park on Patterson Avenue. The wooded 6-acre property is located next to Maybeury Elementary School and the Tuckahoe Family YMCA. \nTuckahoe Supervisor Jody Rogish and Henrico County Recreation & Parks invites the public to the first\, of several public meetings about the park. These meetings will help to gather feedback on what the community would like to see on the site\, which could include recreational amenities and connections to Maybeury and the YMCA. \nLearn more about the park project.
URL:https://henrico.gov/calendar/patterson-ave-park-community-meeting/
LOCATION:Maybeury Elementary School\, 901 Maybeury Drive\, Richmond\, 23229\, United States
CATEGORIES:Meetings
ORGANIZER;CN="Recreation and Parks":MAILTO:recandparks@henrico.gov
END:VEVENT
BEGIN:VEVENT
DTSTART;TZID=America/New_York:20251024T160000
DTEND;TZID=America/New_York:20251024T180000
DTSTAMP:20260419T150943
CREATED:20250808T163208Z
LAST-MODIFIED:20250808T185552Z
UID:10060141-1761321600-1761328800@henrico.gov
SUMMARY:Spooky Season Bash
DESCRIPTION:Fri\, Oct 24\, 4-6 p.m. Belmont Recreation Center. \nCelebrate spooky season with your family! Enjoy Sleepy Hollow themed crafts\, activities\, and a showing of the cartoon. \nInformation: den63@henrico.gov
URL:https://henrico.gov/calendar/spooky-season-bash/
LOCATION:Belmont Recreation Center\, 1600 Hilliard Road\, Henrico\, VA\, 23228\, United States
CATEGORIES:Events
ATTACH;FMTTYPE=image/png:https://henrico.gov/assets/Spooky-Season-Bash-web.png
ORGANIZER;CN="Recreation and Parks":MAILTO:recandparks@henrico.gov
GEO:37.6179268;-77.4625476
X-APPLE-STRUCTURED-LOCATION;VALUE=URI;X-ADDRESS=Belmont Recreation Center 1600 Hilliard Road Henrico VA 23228 United States;X-APPLE-RADIUS=500;X-TITLE=1600 Hilliard Road:geo:-77.4625476,37.6179268
END:VEVENT
BEGIN:VEVENT
DTSTART;TZID=America/New_York:20251024T163000
DTEND;TZID=America/New_York:20251024T210000
DTSTAMP:20260419T150943
CREATED:20250808T150443Z
LAST-MODIFIED:20250910T151550Z
UID:10060136-1761323400-1761339600@henrico.gov
SUMMARY:Trunk or Treat + Movie in the Park
DESCRIPTION:Have some Halloween fun at Deep Run Park on Friday\, October 24! Wear your costume\, participate in a Trunk or Treat\, and walk through our kid-friendly Spooky Trail from 4:30-6:30pm. \n\nThen\, grab your chairs or blankets to enjoy a Halloween movie at 7pm in the activity field (near the pond). Food\, drinks\, and popcorn available for purchase. It’s a spooky good time! \nContact us to learn the movie title – recandparks@henrico.gov or 804-501-PARK. \n\nMovie titles are also shared in our monthly e-newsletter\, sign up today!
URL:https://henrico.gov/calendar/movie-in-the-park-trunk-treat/
LOCATION:Deep Run Park\, 9900 Ridgefield Pkwy\, Henrico\, VA\, 23233
CATEGORIES:Events
ATTACH;FMTTYPE=image/png:https://henrico.gov/assets/WebImage-26.png
ORGANIZER;CN="Recreation and Parks":MAILTO:recandparks@henrico.gov
GEO:37.6259319;-77.5892828
X-APPLE-STRUCTURED-LOCATION;VALUE=URI;X-ADDRESS=Deep Run Park 9900 Ridgefield Pkwy Henrico VA 23233;X-APPLE-RADIUS=500;X-TITLE=9900 Ridgefield Pkwy:geo:-77.5892828,37.6259319
END:VEVENT
BEGIN:VEVENT
DTSTART;TZID=America/New_York:20251025T090000
DTEND;TZID=America/New_York:20251025T120000
DTSTAMP:20260419T150943
CREATED:20250808T150717Z
LAST-MODIFIED:20250808T162112Z
UID:10060137-1761382800-1761393600@henrico.gov
SUMMARY:DPFM Fall Festival 2025
DESCRIPTION:The Dorey Park Farmer’s Market celebrates its annual Fall Festival! Enjoy homemade goods and delicious treats from the market vendors\, pick a pumpkin\, take a hayride\, or sit back and enjoy the music. \nDorey Park Farmers Market is at Dorey Park each Saturday\, June-October.
URL:https://henrico.gov/calendar/dpfm-fall-festival-2025/
LOCATION:Dorey Park\, 2999 Darbytown Road\, Henrico\, VA\, 23231\, United States
CATEGORIES:Events
ATTACH;FMTTYPE=image/jpeg:https://henrico.gov/assets/DFM-Fall-Festival-ad-scaled-e1664300668247.jpg
ORGANIZER;CN="Recreation and Parks":MAILTO:recandparks@henrico.gov
GEO:37.4665306;-77.3401159
X-APPLE-STRUCTURED-LOCATION;VALUE=URI;X-ADDRESS=Dorey Park 2999 Darbytown Road Henrico VA 23231 United States;X-APPLE-RADIUS=500;X-TITLE=2999 Darbytown Road:geo:-77.3401159,37.4665306
END:VEVENT
BEGIN:VEVENT
DTSTART;TZID=America/New_York:20251030T180000
DTEND;TZID=America/New_York:20251030T200000
DTSTAMP:20260419T150943
CREATED:20250808T150918Z
LAST-MODIFIED:20250808T202222Z
UID:10060138-1761847200-1761854400@henrico.gov
SUMMARY:Trunk or Treat
DESCRIPTION:Pop the trunks and grab your bags – it’s time for a candy-filled cruise through a parking lot of decorated cars\, costumes\, and sweet surprises! No doorbells\, just drive-up delights! \nInformation: qua024@henrico.gov
URL:https://henrico.gov/calendar/trunk-or-treat/
LOCATION:Eastern Henrico Recreation Center\, 1440 N. Laburnum Avenue\, Henrico\, VA\, 23223\, United States
CATEGORIES:Events
ATTACH;FMTTYPE=image/jpeg:https://henrico.gov/assets/Web-Trunk-or-Treat.jpg
ORGANIZER;CN="Recreation and Parks":MAILTO:recandparks@henrico.gov
GEO:37.5657122;-77.3782074
X-APPLE-STRUCTURED-LOCATION;VALUE=URI;X-ADDRESS=Eastern Henrico Recreation Center 1440 N. Laburnum Avenue Henrico VA 23223 United States;X-APPLE-RADIUS=500;X-TITLE=1440 N. Laburnum Avenue:geo:-77.3782074,37.5657122
END:VEVENT
END:VCALENDAR