









BEGIN:VCALENDAR
VERSION:2.0
PRODID:-//Henrico County, Virginia - ECPv6.15.20//NONSGML v1.0//EN
CALSCALE:GREGORIAN
METHOD:PUBLISH
X-ORIGINAL-URL:https://henrico.gov
X-WR-CALDESC:Events for Henrico County, Virginia
REFRESH-INTERVAL;VALUE=DURATION:PT1H
X-Robots-Tag:noindex
X-PUBLISHED-TTL:PT1H
BEGIN:VTIMEZONE
TZID:America/New_York
BEGIN:DAYLIGHT
TZOFFSETFROM:-0500
TZOFFSETTO:-0400
TZNAME:EDT
DTSTART:20240310T070000
END:DAYLIGHT
BEGIN:STANDARD
TZOFFSETFROM:-0400
TZOFFSETTO:-0500
TZNAME:EST
DTSTART:20241103T060000
END:STANDARD
BEGIN:DAYLIGHT
TZOFFSETFROM:-0500
TZOFFSETTO:-0400
TZNAME:EDT
DTSTART:20250309T070000
END:DAYLIGHT
BEGIN:STANDARD
TZOFFSETFROM:-0400
TZOFFSETTO:-0500
TZNAME:EST
DTSTART:20251102T060000
END:STANDARD
BEGIN:DAYLIGHT
TZOFFSETFROM:-0500
TZOFFSETTO:-0400
TZNAME:EDT
DTSTART:20260308T070000
END:DAYLIGHT
BEGIN:STANDARD
TZOFFSETFROM:-0400
TZOFFSETTO:-0500
TZNAME:EST
DTSTART:20261101T060000
END:STANDARD
END:VTIMEZONE
BEGIN:VEVENT
DTSTART;TZID=America/New_York:20250404T193000
DTEND;TZID=America/New_York:20250404T213000
DTSTAMP:20260419T074724
CREATED:20250210T210421Z
LAST-MODIFIED:20250404T171104Z
UID:10059551-1743795000-1743802200@henrico.gov
SUMMARY:(CANCELLED) Movie in the Park: Meadow Farm
DESCRIPTION:*𝗧𝗵𝗶𝘀 𝗺𝗼𝘃𝗶𝗲 𝗵𝗮𝘀 𝗯𝗲𝗲𝗻 𝗰𝗮𝗻𝗰𝗲𝗹𝗹𝗲𝗱 𝗯𝗲𝗰𝗮𝘂𝘀𝗲 𝗼𝗳 𝘁𝗵𝗲 𝗳𝗼𝗿𝗲𝗰𝗮𝘀𝘁𝗲𝗱 𝘄𝗶𝗻𝗱 𝗮𝗻𝗱 𝘀𝘁𝗼𝗿𝗺𝘀.* \nEnjoy a movie in the park! The movie will begin at sunset\, approximately 7:30pm. Bring your lawn chair or blanket and a flashlight. \nContact us to learn the movie title – recandparks@henrico.gov or 804-501-PARK. \nMovie titles are also shared in our monthly e-newsletter\, sign up today!
URL:https://henrico.gov/calendar/movie-in-the-park-meadow-farm/
LOCATION:Meadow Farm Museum at Crump Park\, 3400 Mountain Road\, Glen Allen\, VA\, 23060\, United States
CATEGORIES:Events
ATTACH;FMTTYPE=image/jpeg:https://henrico.gov/assets/App-Movie-in-the-Park-e1715698906553.jpg
ORGANIZER;CN="Recreation and Parks":MAILTO:recandparks@henrico.gov
GEO:37.6734045;-77.5165528
X-APPLE-STRUCTURED-LOCATION;VALUE=URI;X-ADDRESS=Meadow Farm Museum at Crump Park 3400 Mountain Road Glen Allen VA 23060 United States;X-APPLE-RADIUS=500;X-TITLE=3400 Mountain Road:geo:-77.5165528,37.6734045
END:VEVENT
END:VCALENDAR