









BEGIN:VCALENDAR
VERSION:2.0
PRODID:-//Henrico County, Virginia - ECPv6.15.20//NONSGML v1.0//EN
CALSCALE:GREGORIAN
METHOD:PUBLISH
X-ORIGINAL-URL:https://henrico.gov
X-WR-CALDESC:Events for Henrico County, Virginia
REFRESH-INTERVAL;VALUE=DURATION:PT1H
X-Robots-Tag:noindex
X-PUBLISHED-TTL:PT1H
BEGIN:VTIMEZONE
TZID:America/New_York
BEGIN:DAYLIGHT
TZOFFSETFROM:-0500
TZOFFSETTO:-0400
TZNAME:EDT
DTSTART:20240310T070000
END:DAYLIGHT
BEGIN:STANDARD
TZOFFSETFROM:-0400
TZOFFSETTO:-0500
TZNAME:EST
DTSTART:20241103T060000
END:STANDARD
BEGIN:DAYLIGHT
TZOFFSETFROM:-0500
TZOFFSETTO:-0400
TZNAME:EDT
DTSTART:20250309T070000
END:DAYLIGHT
BEGIN:STANDARD
TZOFFSETFROM:-0400
TZOFFSETTO:-0500
TZNAME:EST
DTSTART:20251102T060000
END:STANDARD
BEGIN:DAYLIGHT
TZOFFSETFROM:-0500
TZOFFSETTO:-0400
TZNAME:EDT
DTSTART:20260308T070000
END:DAYLIGHT
BEGIN:STANDARD
TZOFFSETFROM:-0400
TZOFFSETTO:-0500
TZNAME:EST
DTSTART:20261101T060000
END:STANDARD
END:VTIMEZONE
BEGIN:VEVENT
DTSTART;TZID=America/New_York:20250928T160000
DTEND;TZID=America/New_York:20250928T180000
DTSTAMP:20260420T014642
CREATED:20250808T144716Z
LAST-MODIFIED:20250923T124100Z
UID:10060128-1759075200-1759082400@henrico.gov
SUMMARY:Jazz in the Park
DESCRIPTION:New! Soulful Sunday Series continues with Jazz in the Park \nEnjoy a relaxing afternoon in the park with a live smooth jazz performance by Trin ft. The Nucleus Trio & Nathan Fussell. It’s the perfect way to slow down and enjoy the day! (The event is taking place in the parking lot in front of the recreation center.) \nTrin Cunningham\n\nTriniti Cunningham\, also known as Trin\, has been captivating audiences with her intriguing voice and pure tone since childhood. She is a Richmond native\, who was jazz and classically trained at Appomattox Regional Governor’s School for the Arts and Technology. She later studied classical and jazz voice at the University of the Arts\, where she received a bachelor’s degree in Vocal Performance. Trin sings a multitude of genres\, including Jazz\, R&B\, Pop\, Neosoul\, Alternative\, and Christian music. She plans to continue her growth in performing\, creating\, and teaching as a vocalist\, and is thrilled for what else is in store for her future music endeavors.\n\nVendors: \n\nRiver City Caricatures – Free caricature drawings\nPoint 5 RVA – Curated beverages\nThe Confidence Connect – Relax at Jazz in the Park with a complimentary seated massage at The Confidence Connect’s Rejuvenation Station\, complete with Aroma & Sound Therapy and a restorative ambience you’ll be happy you experienced.\n\n      \nFood Trucks will be onsite with concessions for purchase: \n\nBlessed Meals on Wheels\nSweet Temptations\n\nQuestions? Email rec-eventsteam@henrico.gov.
URL:https://henrico.gov/calendar/jazz-park/
LOCATION:Deep Run Park\, 9900 Ridgefield Pkwy\, Henrico\, VA\, 23233
CATEGORIES:Events
ATTACH;FMTTYPE=image/jpeg:https://henrico.gov/assets/Web-Jazz-in-the-Park.jpg
ORGANIZER;CN="Recreation and Parks":MAILTO:recandparks@henrico.gov
GEO:37.6259319;-77.5892828
X-APPLE-STRUCTURED-LOCATION;VALUE=URI;X-ADDRESS=Deep Run Park 9900 Ridgefield Pkwy Henrico VA 23233;X-APPLE-RADIUS=500;X-TITLE=9900 Ridgefield Pkwy:geo:-77.5892828,37.6259319
END:VEVENT
END:VCALENDAR