









BEGIN:VCALENDAR
VERSION:2.0
PRODID:-//Henrico County, Virginia - ECPv6.15.20//NONSGML v1.0//EN
CALSCALE:GREGORIAN
METHOD:PUBLISH
X-ORIGINAL-URL:https://henrico.gov
X-WR-CALDESC:Events for Henrico County, Virginia
REFRESH-INTERVAL;VALUE=DURATION:PT1H
X-Robots-Tag:noindex
X-PUBLISHED-TTL:PT1H
BEGIN:VTIMEZONE
TZID:America/New_York
BEGIN:DAYLIGHT
TZOFFSETFROM:-0500
TZOFFSETTO:-0400
TZNAME:EDT
DTSTART:20250309T070000
END:DAYLIGHT
BEGIN:STANDARD
TZOFFSETFROM:-0400
TZOFFSETTO:-0500
TZNAME:EST
DTSTART:20251102T060000
END:STANDARD
BEGIN:DAYLIGHT
TZOFFSETFROM:-0500
TZOFFSETTO:-0400
TZNAME:EDT
DTSTART:20260308T070000
END:DAYLIGHT
BEGIN:STANDARD
TZOFFSETFROM:-0400
TZOFFSETTO:-0500
TZNAME:EST
DTSTART:20261101T060000
END:STANDARD
BEGIN:DAYLIGHT
TZOFFSETFROM:-0500
TZOFFSETTO:-0400
TZNAME:EDT
DTSTART:20270314T070000
END:DAYLIGHT
BEGIN:STANDARD
TZOFFSETFROM:-0400
TZOFFSETTO:-0500
TZNAME:EST
DTSTART:20271107T060000
END:STANDARD
END:VTIMEZONE
BEGIN:VEVENT
DTSTART;TZID=America/New_York:20260422T130000
DTEND;TZID=America/New_York:20260422T163000
DTSTAMP:20260422T104946
CREATED:20260416T180821Z
LAST-MODIFIED:20260416T182634Z
UID:10060475-1776862800-1776875400@henrico.gov
SUMMARY:HEART Earth Day Stream Cleanup (West)
DESCRIPTION:Join HEART’s Water Resources subcommittee for an Earth Day Stream Cleanup at the Henrico Training Center! \nStream cleanup efforts are vital to protect our local environment\, the James River\, the Chesapeake Bay\, and the Atlantic Ocean. Volunteers will remove trash and littered objects from the stream and the surrounding forested area. Trash grabbers and bags will be provided; please bring a water bottle and remember to put on sunscreen and insect repellent!
URL:https://henrico.gov/calendar/heart-earth-day-stream-cleanup-west/
LOCATION:Henrico County Training Center\, 7701 E. Parham Road\, Henrico\, VA\, 23294\, United States
ATTACH;FMTTYPE=image/jpeg:https://henrico.gov/assets/RockyBranchCleanup_15-scaled.jpg
GEO:37.6302738;-77.528194
X-APPLE-STRUCTURED-LOCATION;VALUE=URI;X-ADDRESS=Henrico County Training Center 7701 E. Parham Road Henrico VA 23294 United States;X-APPLE-RADIUS=500;X-TITLE=7701 E. Parham Road:geo:-77.528194,37.6302738
END:VEVENT
BEGIN:VEVENT
DTSTART;TZID=America/New_York:20260424T130000
DTEND;TZID=America/New_York:20260424T163000
DTSTAMP:20260422T104946
CREATED:20260416T183009Z
LAST-MODIFIED:20260420T152824Z
UID:10060476-1777035600-1777048200@henrico.gov
SUMMARY:HEART Earth Day Stream Cleanup (East)
DESCRIPTION:Join HEART’s Water Resources subcommittee for a stream cleanup event at the Eastern Government Center! \nStream cleanup efforts are vital to protect our local environment\, the James River\, the Chesapeake Bay\, and the Atlantic Ocean. Volunteers will remove trash and littered objects from the stream and the surrounding forested area. Trash grabbers and bags will be provided; please bring a water bottle and remember to put on sunscreen and insect repellent! \nClick the link to sign up: April 24th Stream Cleanup
URL:https://henrico.gov/calendar/heart-earth-day-stream-cleanup-east/
LOCATION:Eastern Government Center\, 3820 Nine Mile Rd.\, Henrico\, VA\, 23228\, United States
ATTACH;FMTTYPE=image/jpeg:https://henrico.gov/assets/IMG_E9530-scaled.jpg
GEO:37.545246;-77.327506
X-APPLE-STRUCTURED-LOCATION;VALUE=URI;X-ADDRESS=Eastern Government Center 3820 Nine Mile Rd. Henrico VA 23228 United States;X-APPLE-RADIUS=500;X-TITLE=3820 Nine Mile Rd.:geo:-77.327506,37.545246
END:VEVENT
BEGIN:VEVENT
DTSTART;TZID=America/New_York:20260502T100000
DTEND;TZID=America/New_York:20260502T130000
DTSTAMP:20260422T104946
CREATED:20260416T184025Z
LAST-MODIFIED:20260420T152920Z
UID:10060477-1777716000-1777726800@henrico.gov
SUMMARY:HEART Arbor Day Stream Cleanup
DESCRIPTION:Join HEART’s Water Resources subcommittee for an Arbor Day Stream Cleanup near Adams Elementary School\, where a stream restoration project was recently completed! We will meet at 755 E Foxhill Rd; volunteers may park in the school parking lot. \nStream cleanup efforts are vital to protect our local environment\, the James River\, the Chesapeake Bay\, and the Atlantic Ocean. Volunteers will remove trash and littered objects from the stream and the surrounding forested area. Trash grabbers and bags will be provided; please bring a water bottle and remember to put on sunscreen and insect repellent! \nClick the link to sign up: May 2nd Stream Cleanup
URL:https://henrico.gov/calendar/heart-arbor-day-stream-cleanup/
LOCATION:Jacob L. Adams Elementary School\, 600 S Laburnum Ave\, Richmond\, 23223\, United States
ATTACH;FMTTYPE=image/jpeg:https://henrico.gov/assets/RockyBranchCleanup_15-scaled.jpg
END:VEVENT
END:VCALENDAR